BEGIN:VCALENDAR
VERSION:2.0
PRODID:-//ChamberMaster//Event Calendar 2.0//EN
METHOD:PUBLISH
X-PUBLISHED-TTL:P3D
REFRESH-INTERVAL:P3D
CALSCALE:GREGORIAN
BEGIN:VEVENT
DTSTART:20140710T000000Z
DTEND:20140710T000000Z
X-MICROSOFT-CDO-ALLDAYEVENT:FALSE
SUMMARY:Shawn Colvin
DESCRIPTION:An immensely talented and widely respected singer-songwriter\, Shawn Colvin has carved an immovable place for herself amongst the pantheon of contemporary folk music. In a career spanning more than three decades\, Colvin has developed a devoted and loyal fanbase on the strength of her highly personal and emotive lyrical style combined with a knack for infectious melodies and pop hooks.
X-ALT-DESC;FMTTYPE=text/html:An immensely talented and widely respected singer-songwriter\, Shawn Colvin has carved an immovable place for herself amongst the pantheon of contemporary folk music. In a career spanning more than three decades\, Colvin has developed a devoted and loyal fanbase on the strength of her highly personal and emotive lyrical style combined with a knack for infectious melodies and pop hooks.
LOCATION:37 Main Street\, Rockport\, MA 01966 Shalin Liu Performance Center
UID:e.2981.1321
SEQUENCE:3
DTSTAMP:20260419T154755Z
URL:https://business.capeannchamber.com/events/details/shawn-colvin-07-09-2014-1321
END:VEVENT

END:VCALENDAR
