BEGIN:VCALENDAR
VERSION:2.0
PRODID:-//ChamberMaster//Event Calendar 2.0//EN
METHOD:PUBLISH
X-PUBLISHED-TTL:P3D
REFRESH-INTERVAL:P3D
CALSCALE:GREGORIAN
BEGIN:VEVENT
DTSTART:20250920T000000Z
DTEND:20250920T020000Z
X-MICROSOFT-CDO-ALLDAYEVENT:FALSE
SUMMARY:Shaun Cassidy - The Road to Us
DESCRIPTION:Shaun Cassidy is an American writer\, producer\, actor and singer. After originally making his name as a performer\, Cassidy went on to create\, write\, and produce a number of critically acclaimed television series including AMERICAN GOTHIC (produced with Sam Raimi)\, ROAR (starring Heath Ledger)\, COLD CASE\, COVER ME\, THE AGENCY\, INVASION\, and EMERALD CITY. Cassidy most recently spent five years as executive producer and writer for the hit NBC/NETFLIX series NEW AMSTERDAM.
X-ALT-DESC;FMTTYPE=text/html:<span style="color:rgb(0\, 0\, 0)\; font-family:hco gotham ssm\,sans-serif\; font-size:16px">Shaun Cassidy is an American writer\, producer\, actor and singer. After originally making his name as a performer\, Cassidy went on to create\, write\, and produce a number of critically acclaimed television series including AMERICAN GOTHIC (produced with Sam Raimi)\, ROAR (starring Heath Ledger)\, COLD CASE\, COVER ME\, THE AGENCY\, INVASION\, and EMERALD CITY. Cassidy most recently spent five years as executive producer and writer for the hit NBC/NETFLIX series NEW AMSTERDAM.</span>
LOCATION:The Cabot 286 Cabot St Beverly\, MA 01915
UID:e.2981.43024
SEQUENCE:3
DTSTAMP:20260425T011309Z
URL:https://business.capeannchamber.com/events/details/shaun-cassidy-the-road-to-us-43024
END:VEVENT

END:VCALENDAR
