BEGIN:VCALENDAR
VERSION:2.0
PRODID:-//ChamberMaster//Event Calendar 2.0//EN
METHOD:PUBLISH
X-PUBLISHED-TTL:P3D
REFRESH-INTERVAL:P3D
CALSCALE:GREGORIAN
BEGIN:VEVENT
DTSTART:20251212T230000Z
DTEND:20251213T010000Z
X-MICROSOFT-CDO-ALLDAYEVENT:FALSE
SUMMARY:Shamanic Breathwork/Journey & Drum Circle in the Salt Cave
DESCRIPTION:Join us in the salt cave for a unique and transformative experience where grounding\, rhythm\, breath\, and guided meditation come together to help you feel deeply connected\, emotionally clear\, and spiritually aligned.\n\nThis workshop is a powerful way to relieve stress\, explore altered states of consciousness\, and reconnect with your inner wisdom.\n\n\n\nMichael LoColle\, Shamanic Practitioner\, has over 17 years of walking through struggles & challenges overcoming chronic illness\, addiction\, emotional turmoil\, and deep spiritual disconnection He's turned his personal transformation into a powerful path of service. He now helps others rise from the chaos of stress\, trauma\, and disconnection to reclaim their vitality\, purpose\, and inner truth. He does this through breathwork\, Shamanic journeying\, embodiment practices\, and coaching.
X-ALT-DESC;FMTTYPE=text/html:<p><span style="color:rgba(0\,0\,0\,var(--O42jJQ\,1))">Join us in the salt cave for a unique and transformative experience where </span><strong>grounding</strong><span style="color:rgba(0\,0\,0\,var(--O42jJQ\,1))">\, </span><strong>rhythm</strong><span style="color:rgba(0\,0\,0\,var(--O42jJQ\,1))">\, </span><strong>breath</strong><span style="color:rgba(0\,0\,0\,var(--O42jJQ\,1))">\, and </span><strong>guided meditation</strong><span style="color:rgba(0\,0\,0\,var(--O42jJQ\,1))"> come together to help you feel deeply connected\, emotionally clear\, and spiritually aligned.</span></p>\n\n<p><span style="color:rgba(0\,0\,0\,var(--O42jJQ\,1))">This workshop is a powerful way to </span><strong>relieve stress\, explore altered states of consciousness\, </strong><span style="color:rgba(0\,0\,0\,var(--O42jJQ\,1))">and </span><strong>reconnect with your inner wisdom.<br />\n<br />\n<em>Michael LoColle</em></strong><em><strong>\, Shamanic Practitioner\,</strong> has over 17 years of walking through struggles &amp\; challenges&mdash\;overcoming chronic illness\, addiction\, emotional turmoil\, and deep spiritual disconnection&mdash\;He&#39\;s turned his personal transformation into a powerful path of service. He now helps others rise from the chaos of stress\, trauma\, and disconnection to reclaim their vitality\, purpose\, and inner truth. He does this through breathwork\, Shamanic journeying\, embodiment practices\, and coaching.</em></p>\n
LOCATION:Revive Wellness (in the Salt Cave) 232 Main St.\, Gloucester 01930
UID:e.2981.45387
SEQUENCE:3
DTSTAMP:20260422T044909Z
URL:https://business.capeannchamber.com/events/details/shamanic-breathwork-journey-drum-circle-in-the-salt-cave-45387
END:VEVENT

END:VCALENDAR
