BEGIN:VCALENDAR
VERSION:2.0
PRODID:-//ChamberMaster//Event Calendar 2.0//EN
METHOD:PUBLISH
X-PUBLISHED-TTL:P3D
REFRESH-INTERVAL:P3D
CALSCALE:GREGORIAN
BEGIN:VEVENT
DTSTART:20241221T003000Z
DTEND:20241221T023000Z
X-MICROSOFT-CDO-ALLDAYEVENT:FALSE
SUMMARY:Shalin Liu-Cape Ann Guitar Society & Night Owls
DESCRIPTION:Join the Cape Ann Guitar Society on Friday\, December 20th\, at 7:30 pm\, for Shalin Liu's Upstairs on Main series featuring an evening of guitar\, with music from the Renaissance\, Sephardia\, and right here on Cape Ann. The Guitar Society's founder Brendan Evans will present a classical guitar program of music from 16th century Spain and Italy\, and will be joined by violinist Scott Moore for a set of Sefardic Airs arranged for guitar and violin. The acoustic trio Night Owls will then take the stage for a set of original music\, blending three-part harmonies with classical guitar\, playing songs about love\, change\, and mystery.
X-ALT-DESC;FMTTYPE=text/html:<span style="font-size:16px\;"><span style="font-family:times new roman\;"><span style="color:black\;">Join the Cape Ann Guitar Society on Friday\, December 20th\, at 7:30 pm\, for Shalin Liu&rsquo\;s</span><em><span style="font-variant-alternates:normal\;font-variant-numeric:normal\;font-variant-east-asian:normal\;white-space-collapse:preserve\;"> Upstairs on Main</span></em><span style="font-variant-alternates:normal\;font-variant-numeric:normal\;font-variant-east-asian:normal\;white-space-collapse:preserve\;"> series featuring an evening of guitar\, with music from the Renaissance\, Sephardia\, and right here on Cape Ann. The Guitar Society&rsquo\;s founder Brendan Evans will present a classical guitar program of music from 16th century Spain and Italy\, and will be joined by violinist Scott Moore for a set of Sefardic Airs arranged for guitar and violin. The acoustic trio Night Owls will then take the stage for a set of original music\, blending three-part harmonies with classical guitar\, playing songs about love\, change\, and mystery.&nbsp\;</span></span></span><br />\n<br />\n<br />\n&nbsp\;
LOCATION:Shalin Liu
UID:e.2981.34248
SEQUENCE:3
DTSTAMP:20260424T152718Z
URL:https://business.capeannchamber.com/events/details/shalin-liu-cape-ann-guitar-society-night-owls-34248
END:VEVENT

END:VCALENDAR
