BEGIN:VCALENDAR
VERSION:2.0
PRODID:-//ChamberMaster//Event Calendar 2.0//EN
METHOD:PUBLISH
X-PUBLISHED-TTL:P3D
REFRESH-INTERVAL:P3D
CALSCALE:GREGORIAN
BEGIN:VEVENT
DTSTART:20250822T130000Z
DTEND:20250824T180000Z
X-MICROSOFT-CDO-ALLDAYEVENT:FALSE
SUMMARY:Shakti Queen: Birthing the Goddess Women's Retreat
DESCRIPTION:This is your sacred invitation to tap into and love your true self   unconditionally\, unapologetically\, and gloriously.\n\nThe Goddess is rising. She is you.\nThis women's empowerment retreat is for women who are ready to connect deeply with themselves.  Over the weekend\, we will: \n\n\n	\n	~ Awaken your inner sexy Goddess Power\n	\n	\n	~ Empower and heal your Feminine Relationships\n	\n	\n	~ Clear and Release constricting emotional blocks\n	\n	\n	~ Transform limits and embody your Fierce Grace\n	\n	\n	~ Celebrate and relax with ceremony in nature\n	\n	\n	~ Own\, embody and claim your Beauty!\n	\n	\n	~ Release shame and liberate your Vitality\n	\n	\n	~ Polish the Mirror of Self Love\n	\n	\n	~ Lighten up and enjoy Supportive Sisterhood\n	\n	\n	~ Treat Yourself with nourishing food\, immersive nature & Cozy Accommodations
X-ALT-DESC;FMTTYPE=text/html:<p><strong>This is your sacred invitation to tap into and love your true self &mdash\; unconditionally\, unapologetically\, and gloriously.</strong></p>\n\n<p><strong>The Goddess is rising. She is you.</strong></p>\nThis women&#39\;s empowerment retreat is for women who are ready to connect deeply with themselves.&nbsp\; Over the weekend\, we will:&nbsp\;\n\n<ul style="list-style-type:none">\n	<li>\n	<p><strong>~ Awaken</strong>&nbsp\;your inner sexy Goddess Power</p>\n	</li>\n	<li>\n	<p><strong>~ Empower</strong>&nbsp\;and heal your Feminine Relationships</p>\n	</li>\n	<li>\n	<p><strong>~ Clear</strong>&nbsp\;and Release constricting emotional blocks</p>\n	</li>\n	<li>\n	<p><strong>~ Transform</strong>&nbsp\;limits and embody your Fierce Grace</p>\n	</li>\n	<li>\n	<p><strong>~ Celebrate</strong>&nbsp\;and relax with ceremony in nature</p>\n	</li>\n	<li>\n	<p><strong>~ Own</strong>\, embody and claim your Beauty!</p>\n	</li>\n	<li>\n	<p><strong>~ Release</strong>&nbsp\;shame and liberate your Vitality</p>\n	</li>\n	<li>\n	<p><strong>~ Polish</strong>&nbsp\;the Mirror of Self Love</p>\n	</li>\n	<li>\n	<p><strong>~ Lighten</strong>&nbsp\;up and enjoy Supportive Sisterhood</p>\n	</li>\n	<li>\n	<p><strong>~ Treat Yourself</strong>&nbsp\;with nourishing food\, immersive nature &amp\; Cozy Accommodations<br />\n	&nbsp\;</p>\n	</li>\n</ul>\n
LOCATION:Ocean front home on the Northshore.
UID:e.2981.37417
SEQUENCE:3
DTSTAMP:20260425T000204Z
URL:https://business.capeannchamber.com/events/details/shakti-queen-birthing-the-goddess-women-s-retreat-37417
END:VEVENT

END:VCALENDAR
