BEGIN:VCALENDAR
VERSION:2.0
PRODID:-//ChamberMaster//Event Calendar 2.0//EN
METHOD:PUBLISH
X-PUBLISHED-TTL:P3D
REFRESH-INTERVAL:P3D
CALSCALE:GREGORIAN
BEGIN:VEVENT
DTSTART:20221103T220000Z
DTEND:20221104T010000Z
X-MICROSOFT-CDO-ALLDAYEVENT:FALSE
SUMMARY:Sexual Wellness by 4GBS Coaching & Consulting
DESCRIPTION:Do you wish there was a safe space where you could discuss your sex life and ask questions without judgement? Want to hear details about other's joys and challenges to know that you are not alone? Join us for a few hours of casual\, fun conversation about the sex lives we have and the sex lives we dream about. Bring a friend\, a sister\, a cousin\, a daughter or even your mother  let's dismantle the shame that has kept these conversations hidden in the dark for far too long.\n\n\n\n \n\n\n\nWorried about being late?  Don't.  We will start with nibbles\, drinks and mingling to drop in together and then start the group conversation at 6:45pm.
X-ALT-DESC;FMTTYPE=text/html:<div>\n<div>Do you wish there was a safe space where you could discuss your sex life and ask questions without judgement? Want to hear details about other&rsquo\;s joys and challenges to know that you are not alone? Join us for a few hours of casual\, fun conversation about the sex lives we have and the sex lives we dream about. Bring a friend\, a sister\, a cousin\, a daughter or even your mother&hellip\; let&rsquo\;s dismantle the shame that has kept these conversations hidden in the dark for far too long.</div>\n</div>\n\n<div>\n<div>&nbsp\;</div>\n</div>\n\n<div>\n<div>Worried about being late? &nbsp\;Don&#39\;t. &nbsp\;We will start with nibbles\, drinks and mingling to drop in together and then start the group conversation at 6:45pm. &nbsp\;</div>\n</div>\n
LOCATION:The Wellness Space 25 State Street Suite 201 Newburyport\, MA 01950
UID:e.2981.23169
SEQUENCE:3
DTSTAMP:20260424T110508Z
URL:https://business.capeannchamber.com/events/details/sexual-wellness-by-4gbs-coaching-consulting-23169
END:VEVENT

END:VCALENDAR
