BEGIN:VCALENDAR
VERSION:2.0
PRODID:-//ChamberMaster//Event Calendar 2.0//EN
METHOD:PUBLISH
X-PUBLISHED-TTL:P3D
REFRESH-INTERVAL:P3D
CALSCALE:GREGORIAN
BEGIN:VEVENT
DTSTART;VALUE=DATE:20221106
DTEND;VALUE=DATE:20221107
TRANSP:TRANSPARENT
X-MICROSOFT-CDO-ALLDAYEVENT:TRUE
SUMMARY:Seussical JR at Gloucester Stage
DESCRIPTION:Horton the Elephant\, the Cat in the Hat and all of your favorite Dr. Seuss characters spring to life onstage in Seussical JR.\, a fantastical musical extravaganza from Tony-winners\, Lynn Ahrens and Stephen Flaherty.\n\nTransporting audiences from the Jungle of Nool to the Circus McGurkus\, the Cat in the Hat narrates the story of Horton the Elephant\, who discovers a speck of dust containing tiny people called the Whos.\n\nThis Youth Company production is directed by Education Apprentice\, Jessica MacLean. Kids from Elementary to High School wow the audience with Ahrens' and Flaherty's fun-filled musical Friday November 4th and Saturday November 5th at 7:30pm and Saturday November 5th and Sunday November 6th at 3pm indoors at Gloucester Stage Company\, 267 East Main Street\, Gloucester MA.
X-ALT-DESC;FMTTYPE=text/html:<p><span style="font-size:medium">Horton the Elephant\, the Cat in the Hat and all of your favorite Dr. Seuss characters spring to life onstage in&nbsp\;<em>Seussical JR.</em>\, a fantastical musical extravaganza from Tony-winners\, Lynn Ahrens and Stephen Flaherty.</span></p>\n\n<p><span style="font-size:medium">Transporting audiences from the Jungle of Nool to the Circus McGurkus\, the Cat in the Hat narrates the story of Horton the Elephant\, who discovers a speck of dust containing tiny people called the Whos.</span></p>\n\n<p><span style="font-size:medium">This Youth Company production is directed by Education Apprentice\, Jessica MacLean. Kids from Elementary to High School wow the audience with Ahrens&rsquo\; and Flaherty&rsquo\;s fun-filled musical Friday November 4th and Saturday November 5th at 7:30pm and Saturday November 5th and Sunday November 6th at 3pm&nbsp\;indoors at Gloucester Stage Company\, 267 East Main Street\, Gloucester MA.</span></p>\n
LOCATION:Gloucester Stage Company\, 267 East Main Street\, Gloucester MA.
UID:e.2981.23160
SEQUENCE:3
DTSTAMP:20260424T105536Z
URL:https://business.capeannchamber.com/events/details/seussical-jr-at-gloucester-stage-23160
END:VEVENT

END:VCALENDAR
