BEGIN:VCALENDAR
VERSION:2.0
PRODID:-//ChamberMaster//Event Calendar 2.0//EN
METHOD:PUBLISH
X-PUBLISHED-TTL:P3D
REFRESH-INTERVAL:P3D
CALSCALE:GREGORIAN
BEGIN:VEVENT
DTSTART;VALUE=DATE:20231213
DTEND;VALUE=DATE:20231214
TRANSP:TRANSPARENT
X-MICROSOFT-CDO-ALLDAYEVENT:TRUE
SUMMARY:Senator Bruce Tarr's 2023 Christmas Toy Drive-Sponsored by The American Legion
DESCRIPTION:American Legion Post No. 3 Supports & Sponsors Senator Bruce Tarr's 2023 Christmas Toy Drive! \n\nPlease donate UNWRAPPED gifts and toys in the toy box located in the Legion Lounge. Help us give back to those who need assistance to make Christmas a special holiday for the children.
X-ALT-DESC;FMTTYPE=text/html:American Legion Post No. 3 Supports &amp\; Sponsors Senator Bruce Tarr&#39\;s 2023 Christmas Toy Drive!&nbsp\;<br />\nPlease donate UNWRAPPED gifts and toys in the toy box located in the Legion Lounge. Help us give back to those who need assistance to make Christmas a special holiday for the children.&nbsp\;
LOCATION:Capt. Lester S. Wass Post No.3 American Legion Lounge
UID:e.2981.27107
SEQUENCE:3
DTSTAMP:20260421T215246Z
URL:https://business.capeannchamber.com/events/details/senator-bruce-tarr-s-2023-christmas-toy-drive-sponsored-by-the-american-legion-27107
END:VEVENT

END:VCALENDAR
