BEGIN:VCALENDAR
VERSION:2.0
PRODID:-//ChamberMaster//Event Calendar 2.0//EN
METHOD:PUBLISH
X-PUBLISHED-TTL:P3D
REFRESH-INTERVAL:P3D
CALSCALE:GREGORIAN
BEGIN:VEVENT
DTSTART:20241215T010000Z
DTEND:20241215T030000Z
X-MICROSOFT-CDO-ALLDAYEVENT:FALSE
SUMMARY:Seaside Yuletide
DESCRIPTION:Three of the North Shore's most beloved songwriters and performers converge for A Seaside Yuletide\, a night of rootsy holiday spirit and song featuring Jon Butcher\, Allen Estes and Sal Baglio.
X-ALT-DESC;FMTTYPE=text/html:<span style="font-size:14px"><span style="background-color:rgb(250\, 250\, 250)\; color:rgb(0\, 0\, 0)\; font-family:open sans\,helvetica neue\,helvetica\,arial\,sans-serif">Three of the North Shore&rsquo\;s most beloved songwriters and performers converge for&nbsp\;</span><strong>A Seaside Yuletide</strong><span style="background-color:rgb(250\, 250\, 250)\; color:rgb(0\, 0\, 0)\; font-family:open sans\,helvetica neue\,helvetica\,arial\,sans-serif">\, a night of rootsy holiday spirit and song featuring Jon Butcher\, Allen Estes and Sal Baglio.</span></span>
LOCATION:37 Main St\, Rockport\, MA 01966
UID:e.2981.33168
SEQUENCE:3
DTSTAMP:20260424T152500Z
URL:https://business.capeannchamber.com/events/details/seaside-yuletide-33168
END:VEVENT

END:VCALENDAR
