BEGIN:VCALENDAR
VERSION:2.0
PRODID:-//ChamberMaster//Event Calendar 2.0//EN
METHOD:PUBLISH
X-PUBLISHED-TTL:P3D
REFRESH-INTERVAL:P3D
CALSCALE:GREGORIAN
BEGIN:VEVENT
DTSTART;VALUE=DATE:20250420
DTEND;VALUE=DATE:20250421
TRANSP:TRANSPARENT
X-MICROSOFT-CDO-ALLDAYEVENT:TRUE
SUMMARY:Seaport Grille Easter Features
DESCRIPTION:Celebrate Easter with us here\, at Seaport Grille on Sunday\, April 20th! \n\n\n\nFrom 11:30AM - 8:00PM\, we will be serving Special Features such as Lobster Bisque\, Spring Salad\, Lobster Ravioli\, Baked Honey Ham\, Grilled Sirloin Pava Steak\, Crab Stuffed Sole and Carrot Cake.\n\n\n\nReservations are highly recommended\, please visit this link to reserve your spot: https://seaportgrillegloucester.com/reservations/
X-ALT-DESC;FMTTYPE=text/html:Celebrate Easter with us here\, at Seaport Grille on Sunday\, April 20th!&nbsp\;<br />\n<br />\nFrom 11:30AM - 8:00PM\, we will be serving Special Features such as Lobster Bisque\, Spring Salad\, Lobster Ravioli\, Baked Honey Ham\, Grilled Sirloin Pava Steak\, Crab Stuffed Sole and Carrot Cake.<br />\n<br />\nReservations are highly recommended\, please visit this link to reserve your spot: <a class="fui-Link ___1q1shib f2hkw1w f3rmtva f1ewtqcl fyind8e f1k6fduh f1w7gpdv fk6fouc fjoy568 figsok6 f1s184ao f1mk8lai fnbmjn9 f1o700av f13mvf36 f1cmlufx f9n3di6 f1ids18y f1tx3yz7 f1deo86v f1eh06m1 f1iescvh fhgqx19 f1olyrje f1p93eir f1nev41a f1h8hb77 f1lqvz6u f10aw75t fsle3fq f17ae5zn" href="https://seaportgrillegloucester.com/reservations/" id="menur1hdd" rel="noreferrer noopener" target="_blank" title="https://seaportgrillegloucester.com/reservations/">https://seaportgrillegloucester.com/reservations/</a>
LOCATION:6 Rowe Sq\, Gloucester\, MA 01930
UID:e.2981.35156
SEQUENCE:3
DTSTAMP:20260424T105103Z
URL:https://business.capeannchamber.com/events/details/seaport-grille-easter-features-35156
END:VEVENT

END:VCALENDAR
