BEGIN:VCALENDAR
VERSION:2.0
PRODID:-//ChamberMaster//Event Calendar 2.0//EN
METHOD:PUBLISH
X-PUBLISHED-TTL:P3D
REFRESH-INTERVAL:P3D
CALSCALE:GREGORIAN
BEGIN:VEVENT
DTSTART:20260312T153000Z
DTEND:20260313T000000Z
X-MICROSOFT-CDO-ALLDAYEVENT:FALSE
SUMMARY:Seaport Grille Anniversary Party
DESCRIPTION:You're invited to celebrate seventeen years by the harbor and yes\, it's five o'clock somewhere. \n\n\n\nFins up\, Gloucester! We're celebrating Seaport Grille's 17th Anniversary\, Margaritaville-style\, inspired by the laid-back island spirit of Jimmy Buffett himself. \n\n\n\nThink Margaritaville-themed decor\, tropical food and drink features\, special prizes\, nightly live music\, festive cocktails\, feel-good tunes\, and the kind of carefree fun that makes time slow down and worries drift away.\n\n\n\nJoin us Tuesday\, March 10th Thursday\, March 12th as we turn the harbor into your favorite island escape no passport required.\n\n\n\nLive Music Schedule:\n\n\n\nTuesday\, March 10th: Headlands\n\nWednesday\, March 11th: Dis N Dat Band\n\nThursday\, March 12th: Annie Brobst Duo\n\n\n\nTrust us\, this is one anniversary party you'll want to waste away at (again and again). \n\n\n\nReserve your spot now: https://seaportgrillegloucester.com/reservations/
X-ALT-DESC;FMTTYPE=text/html:You&rsquo\;re invited to celebrate seventeen years by the harbor&mdash\;and yes\, it&rsquo\;s five o&rsquo\;clock somewhere.&nbsp\;<br />\n<br />\nFins up\, Gloucester! We&rsquo\;re celebrating Seaport Grille&rsquo\;s 17th Anniversary\, Margaritaville-style\, inspired by the laid-back island spirit of Jimmy Buffett himself.&nbsp\;<br />\n<br />\nThink Margaritaville-themed decor\, tropical food and drink features\, special prizes\, nightly live music\, festive cocktails\, feel-good tunes\, and the kind of carefree fun that makes time slow down and worries drift away.<br />\n<br />\nJoin us Tuesday\, March 10th&ndash\;Thursday\, March 12th as we turn the harbor into your favorite island escape&mdash\;no passport required.<br />\n<br />\nLive Music Schedule:<br />\n<br />\nTuesday\, March 10th: Headlands<br />\nWednesday\, March 11th: Dis N Dat Band<br />\nThursday\, March 12th: Annie Brobst Duo<br />\n<br />\nTrust us\, this is one anniversary party you&rsquo\;ll want to waste away at (again and again).&nbsp\;<br />\n<br />\nReserve your spot now: https://seaportgrillegloucester.com/reservations/
LOCATION:6 Rowe Sq\, Gloucester\, MA 01930
UID:e.2981.46420
SEQUENCE:3
DTSTAMP:20260425T123757Z
URL:https://business.capeannchamber.com/events/details/seaport-grille-anniversary-party-03-12-2026-46420
END:VEVENT

END:VCALENDAR
