BEGIN:VCALENDAR
VERSION:2.0
PRODID:-//ChamberMaster//Event Calendar 2.0//EN
METHOD:PUBLISH
X-PUBLISHED-TTL:P3D
REFRESH-INTERVAL:P3D
CALSCALE:GREGORIAN
BEGIN:VEVENT
DTSTART:20250430T230000Z
DTEND:20250501T010000Z
X-MICROSOFT-CDO-ALLDAYEVENT:FALSE
SUMMARY:Sea of Life
DESCRIPTION:A collaboration with the Rockport Art Association & Museum & The Orchestra on the Hill. This project will connect young aspiring visual artists with professional musicians to create a multifaceted community event celebrating the sea and the central role it plays in our coastal identity. Through a thematic exploration of the sea and its life-giving attributes\, student artists from Rockport Art Association will be challenged to produce visual works that reflect the many ways our oceans sustain us\, ranging from the ecologically vital to the deeply personal.
X-ALT-DESC;FMTTYPE=text/html:<p>A collaboration with the Rockport Art Association &amp\; Museum &amp\; The Orchestra on the Hill. This project will connect young aspiring visual artists with professional musicians to create a multifaceted community event celebrating the sea and the central role it plays in our coastal identity. Through a thematic exploration of the sea and its life-giving attributes\, student artists from Rockport Art Association will be challenged to produce visual works that reflect the many ways our oceans sustain us\, ranging from the ecologically vital to the deeply personal.</p>\n
LOCATION:37 Main St\, Rockport\, MA 01966
UID:e.2981.35187
SEQUENCE:3
DTSTAMP:20260424T152640Z
URL:https://business.capeannchamber.com/events/details/sea-of-life-35187
END:VEVENT

END:VCALENDAR
