BEGIN:VCALENDAR
VERSION:2.0
PRODID:-//ChamberMaster//Event Calendar 2.0//EN
METHOD:PUBLISH
X-PUBLISHED-TTL:P3D
REFRESH-INTERVAL:P3D
CALSCALE:GREGORIAN
BEGIN:VEVENT
DTSTART:20221021T230000Z
DTEND:20221022T010000Z
X-MICROSOFT-CDO-ALLDAYEVENT:FALSE
SUMMARY:Scott Damgaard live at Whale's Jaw
DESCRIPTION:Scott Damgaard was recently featured in Metronome Magazine\, and has been touring the country this past year. As a songwriter\, guitarist\, recording artist\, performing artist and producer\, Scott has been constantly active making music.  In addition to having written and released seven studio albums\, he has also played thousands of live shows\, both solo acoustic style and with a full electric band. Join us for an unforgettable evening of music from Scott\, accompanied by dinner and full bar. $5 cover charge (cash or credit). Fully accessible to all and family friendly.
X-ALT-DESC;FMTTYPE=text/html:<h4><span style="font-family:var(--secondary-heading-typeface-style-stack)\; font-size:var(--secondary-heading-typeface-size-number)">Scott Damgaard was recently featured in Metronome Magazine\, and has been touring the country this past year. As a songwriter\, guitarist\, recording artist\, performing artist and producer\,&nbsp\;</span>Scott has been constantly active making music.&nbsp\; In addition to having written and released seven studio albums\, he has also played thousands of live shows\, both solo acoustic style and with a full electric band. Join us for an unforgettable evening of music from Scott\, accompanied by dinner and full bar. $5 cover charge (cash or credit). Fully accessible to all and family friendly.</h4>\n
LOCATION:17 Railroad Avenue Rockport\, MA 01966 at entrance of Whistlestop Mall
UID:e.2981.23164
SEQUENCE:3
DTSTAMP:20260424T123647Z
URL:https://business.capeannchamber.com/events/details/scott-damgaard-live-at-whale-s-jaw-23164
END:VEVENT

END:VCALENDAR
