BEGIN:VCALENDAR
VERSION:2.0
PRODID:-//ChamberMaster//Event Calendar 2.0//EN
METHOD:PUBLISH
X-PUBLISHED-TTL:P3D
REFRESH-INTERVAL:P3D
CALSCALE:GREGORIAN
BEGIN:VEVENT
DTSTART:20250621T223000Z
DTEND:20250622T010000Z
X-MICROSOFT-CDO-ALLDAYEVENT:FALSE
SUMMARY:Schooner Adventure Summer Solstice Sunset Sail!
DESCRIPTION:Join us for a stunning sail on the longest day of the year aboard a National Historic Landmark!\n\n\n	Golden-hour sailing views\n	Onboard light refreshments\n	History\, beauty & maritime charm\n	$60 | kids 17 and under free*\n\n	with a ticketed adult\n\n\nBoarding 6:10PM | Departure 6:30PM | Return 9:00PM\n\nyou are welcome to bring your own snacks and beverages\, however no large coolers are allowed.
X-ALT-DESC;FMTTYPE=text/html:<p>Join us for a stunning sail on the longest day of the year aboard a National Historic Landmark!</p>\n\n<ul>\n	<li><span style="color:rgb(13\, 40\, 57)">Golden-hour sailing views</span></li>\n	<li><span style="color:rgb(13\, 40\, 57)">Onboard light refreshments</span></li>\n	<li><span style="color:rgb(13\, 40\, 57)">History\, beauty &amp\; maritime charm</span></li>\n	<li><span style="color:rgb(13\, 40\, 57)">$60 |</span><span style="color:rgb(13\, 40\, 57)"> </span><span style="color:rgb(13\, 40\, 57)">kids 17 and under free*<br />\n	with a ticketed adult</span></li>\n</ul>\n\n<p>Boarding 6:10PM | Departure 6:30PM | Return 9:00PM<br />\nyou are welcome to bring your own snacks and beverages\, however no large coolers are allowed.</p>\n
LOCATION:Departs from 23 Harbor Loop Gloucester MA Sail in beautiful Gloucester Harbor
UID:e.2981.37296
SEQUENCE:3
DTSTAMP:20260424T223207Z
URL:https://business.capeannchamber.com/events/details/schooner-adventure-summer-solstice-sunset-sail-37296
END:VEVENT

END:VCALENDAR
