BEGIN:VCALENDAR
VERSION:2.0
PRODID:-//ChamberMaster//Event Calendar 2.0//EN
METHOD:PUBLISH
X-PUBLISHED-TTL:P3D
REFRESH-INTERVAL:P3D
CALSCALE:GREGORIAN
BEGIN:VEVENT
DTSTART:20220902T150000Z
DTEND:20220902T173000Z
X-MICROSOFT-CDO-ALLDAYEVENT:FALSE
SUMMARY:Schooner Adventure: Schooner Festival over Labor Day weekend
DESCRIPTION:Join us for the Greet the Fleet Sail\, and the Heritage Day Sail during Gloucester's famous Schooner Festival over Labor Day weekend. Spots aboard Adventure for the full day Mayor's Race in competition for the famous Esperanto Cup on Labor Day sell out quickly every season!\n\n\n\nIn addition to Public Sails\, Adventure is available for private charters\, corporate outings\, and educational programs. Volunteer crew and docents are always needed to help maintain and sail the vessel and share the rich maritime heritage with students and passengers. Interested in learning about getting more involved with Adventure?  Please contact: info@schooner-adventure.org or call 978-281-8079.\n\n \n\nConsult Adventure's website booking calendar about her sailing schedule\, to purchase tickets\, and for sailing FAQ. Join the Adventure and become a member for free and reduced-price sailing tickets. It's a great way to show support for the only 501(c)3 non-profit vessel on the North Shore! www.schooner-adventure.org
X-ALT-DESC;FMTTYPE=text/html:<span style="color:rgb(0\, 0\, 0)\; font-family:times new roman\,serif\; font-size:18px">Join us for the Greet the Fleet Sail\, and the Heritage Day Sail during Gloucester&rsquo\;s famous Schooner Festival over Labor Day weekend. Spots aboard&nbsp\;</span><em>Adventure</em><span style="color:rgb(0\, 0\, 0)\; font-family:times new roman\,serif\; font-size:18px">&nbsp\;for the full day Mayor&rsquo\;s Race in competition for the famous Esperanto Cup on Labor Day sell out quickly every season!</span><br />\n<br />\n<span style="color:black"><span style="font-family:times new roman\,serif"><span style="font-size:13.5pt">In addition to Public Sails\,&nbsp\;<em>Adventure</em>&nbsp\;is available for private charters\, corporate outings\, and educational programs. Volunteer crew and docents are always needed to help maintain and sail the vessel and share the rich maritime heritage with students and passengers. Interested in learning about getting more involved with&nbsp\;<em>Adventure</em>? &nbsp\;Please contact:&nbsp\;</span></span></span><a href="mailto:info@schooner-adventure.org" style="color:rgb(17\, 85\, 204)\;" target="_blank" title="mailto:info@schooner-adventure.org"><span style="color:#0078d4"><span style="font-family:times new roman\,serif"><span style="font-size:13.5pt">info@schooner-adventure.org</span></span></span></a><span style="color:black"><span style="font-family:times new roman\,serif"><span style="font-size:13.5pt">&nbsp\;or call 978-281-8079.</span></span></span><br />\n&nbsp\;<br />\n<span style="color:black"><span style="font-family:times new roman\,serif"><span style="font-size:13.5pt">Consult Adventure&rsquo\;s website booking calendar about her sailing schedule\, to purchase tickets\, and for sailing FAQ. Join the A<em>dventure&nbsp\;</em>and become a member for free and reduced-price sailing tickets. It&rsquo\;s a great way to show support for the only 501(c)3 non-profit vessel on the North Shore!&nbsp\;</span></span></span><a href="http://www.schooner-adventure.org/" style="color:rgb(17\, 85\, 204)\;" target="_blank" title="http://www.schooner-adventure.org/"><span style="font-family:times new roman\,serif"><span style="font-size:13.5pt">www.schooner-adventure.org</span></span></a><br />\n&nbsp\;
LOCATION:Docked at: Maritime Gloucester Harriet Webster Pier\, 23 Harbor Loop\, Gloucester\, MA
UID:e.2981.22436
SEQUENCE:3
DTSTAMP:20260424T152739Z
URL:https://business.capeannchamber.com/events/details/schooner-adventure-schooner-festival-over-labor-day-weekend-22436
END:VEVENT

END:VCALENDAR
