BEGIN:VCALENDAR
VERSION:2.0
PRODID:-//ChamberMaster//Event Calendar 2.0//EN
METHOD:PUBLISH
X-PUBLISHED-TTL:P3D
REFRESH-INTERVAL:P3D
CALSCALE:GREGORIAN
BEGIN:VEVENT
DTSTART:20260204T223000Z
DTEND:20260205T003000Z
X-MICROSOFT-CDO-ALLDAYEVENT:FALSE
SUMMARY:Schooner Adventure Annual Meeting
DESCRIPTION:SCHOONER ADVENTURE ANNUAL MEETING\n\nA gathering of the Adventure Community.\n\nWednesday\, February 4th 2026 | 5:30 - 7:30 PM\n\nat Gloucester Stage | 267 East Main Street Gloucester\, MA\n\n\n\nComplimentary Nibbles\n\nAll are welcome but space is limited.\n\nThere will be a short presentation in the theatre @ 6:15 PM\n\n- Meet our Executive Director Emily Pearce and member of the Board.\n\n- A review of our sensational 2025 season.\n\n- A taste of what's coming in 2026.\n\n- Special thanks\, a brief Q&A\, and a toast to the vessel.\n\n\n\nWe look forward to seeing you there and celebrating all that is Adventure!\n\nhttps://www.schooneradventure.org
X-ALT-DESC;FMTTYPE=text/html:<div>\n<div>SCHOONER ADVENTURE ANNUAL MEETING</div>\n\n<div>A gathering of the Adventure Community.</div>\n\n<div>Wednesday\, February 4th 2026 | 5:30 - 7:30 PM</div>\n\n<div>at Gloucester Stage | 267 East Main Street Gloucester\, MA</div>\n</div>\n\n<div>\n<div>Complimentary Nibbles</div>\n\n<div>All are welcome but space is limited.</div>\n\n<div>There will be a short presentation in the theatre @ 6:15 PM</div>\n\n<div>- Meet our Executive Director Emily Pearce and member of the Board.</div>\n\n<div>- A review of our sensational 2025 season.</div>\n\n<div>- A taste of what&#39\;s coming in 2026.</div>\n\n<div>- Special thanks\, a brief Q&amp\;A\, and a toast to the vessel.</div>\n</div>\n\n<div>\n<div>We look forward to seeing you there and celebrating all that is Adventure!</div>\n\n<div><span style="font-family:inherit"><a class="x1i10hfl xjbqb8w x1ejq31n xd10rxx x1sy0etr x17r0tee x972fbf xcfux6l x1qhh985 xm0m39n x9f619 x1ypdohk xt0psk2 xe8uvvx xdj266r x11i5rnm xat24cr x1mh8g0r xexx8yu x4uap5 x18d9i69 xkhd6sd x16tdsg8 x1hl2dhg xggy1nq x1a2a7pz x1sur9pj xkrqix3 x1fey0fg x1s688f" href="https://www.schooneradventure.org/specialevents?fbclid=IwZXh0bgNhZW0CMTAAAR28A9H36PQDkWbxTfczUWMqNqNko8gcbtg6SkryFO_F4JDchI1L4apOsIg_aem_aXHbYenAoiBZqjZuws7I2w" rel="nofollow noreferrer" style="cursor: pointer\; text-decoration-line: none\; list-style: none\; margin: 0px\; text-align: inherit\; border-style: none\; padding: 0px\; box-sizing: border-box\; border-width: 0px\; outline: none\; -webkit-tap-highlight-color: transparent\; font-weight: 600\; touch-action: manipulation\; background-color: transparent\; display: inline\; font-family: inherit\;" tabindex="0" target="_blank">https://www.schooneradventure.org</a></span></div>\n</div>\n
LOCATION:Gloucester Stage | 267 East Main Street
UID:e.2981.34965
SEQUENCE:3
DTSTAMP:20260425T111926Z
URL:https://business.capeannchamber.com/events/details/schooner-adventure-annual-meeting-02-20-2025-34965
END:VEVENT

END:VCALENDAR
