BEGIN:VCALENDAR
VERSION:2.0
PRODID:-//ChamberMaster//Event Calendar 2.0//EN
METHOD:PUBLISH
X-PUBLISHED-TTL:P3D
REFRESH-INTERVAL:P3D
CALSCALE:GREGORIAN
BEGIN:VEVENT
DTSTART:20251112T230000Z
DTEND:20251113T003000Z
X-MICROSOFT-CDO-ALLDAYEVENT:FALSE
SUMMARY:Sawyer Free Libray Annual Meeting
DESCRIPTION:The Gloucester Lyceum and Sawyer Free Library Corporation will host its first Annual Meeting in the state-of-the-art Community Room of the newly expanded and modernized Sawyer Free Library.\n\n\n\nThe evening will open with a welcome from Mern Sibley\, President of the Library's Board of Trustees\, followed by remarks from Mayor Greg Verga. Library Director Jenny Benedict will also reflect on this extraordinary year for Gloucester's public library celebrating its historic transformation and sharing a look ahead at the expanded services\, resources\, and programming that will define its next chapter.\n\n\n\nDuring the meeting\, new members of the Library Corporation and Board of Trustees will be elected\, and the Mary M. Weissblum Volunteer Award will be presented to Fran Aliberte in recognition of his many years of dedicated service to the Library and community.\n\n\n\nFollowing the formal program\, guests are invited to enjoy refreshments and conversation while exploring the Library's beautiful reimagined spaces.\n\n\n\nThe meeting is open to the public\, though only corporators may vote. For more information\, visit sawyerfreelibrary.org.\n\n\n\n\nOur Library. Our City. Our Future.\nA new beginning built on community\, access\, collaboration\, and intellectual freedom. Libraries are evolving to meet the changing needs of their communities and the 2025 Sawyer Free Library stands at the forefront of that evolution. With its transformative expansion and modernization\, Sawyer Free is expanding the reach of its extraordinary public service\, ensuring that more residents and visitors can benefit from educational\, civic\, and cultural programs that are relevant\, inclusive\, and accessible to all.
X-ALT-DESC;FMTTYPE=text/html:<span style="font-family:helvetica neue">The Gloucester Lyceum and Sawyer Free Library Corporation will host its first Annual Meeting in the&nbsp\;<strong>state-of-the-art Community Room</strong>&nbsp\;of the newly expanded and modernized Sawyer Free Library.</span><br />\n<br />\n<span style="font-family:helvetica neue">The evening will open with a welcome from&nbsp\;<strong>Mern Sibley</strong>\, President of the Library&rsquo\;s Board of Trustees\, followed by remarks from&nbsp\;<strong>Mayor Greg Verga</strong>.&nbsp\;<strong>Library Director Jenny Benedict</strong>&nbsp\;will also reflect on this extraordinary year for Gloucester&rsquo\;s public library&mdash\;celebrating its historic transformation and sharing a look ahead at the expanded services\, resources\, and programming that will define its next chapter.</span><br />\n<br />\n<span style="font-family:helvetica neue">During the meeting\,&nbsp\;<strong>new members of the Library Corporation and Board of Trustees</strong>&nbsp\;will be elected\, and the&nbsp\;<strong>Mary M. Weissblum Volunteer Award</strong>&nbsp\;will be presented to&nbsp\;<strong>Fran Aliberte</strong>&nbsp\;in recognition of his many years of dedicated service to the Library and community.</span><br />\n<br />\n<span style="font-family:helvetica neue">Following the formal program\, guests are invited to enjoy&nbsp\;<strong>refreshments and conversation</strong>&nbsp\;while exploring the Library&rsquo\;s beautiful reimagined spaces.</span><br />\n<br />\n<span style="font-family:helvetica neue">The meeting is&nbsp\;<strong>open to the public</strong>\, though only corporators may vote. For more information\, visit&nbsp\;<strong><a href="https://sawyerfreelibrary.org/" style="color:rgb(149\, 79\, 114)\;" target="_new">sawyerfreelibrary.org</a></strong>.</span>\n\n<div style="text-align:center">\n<hr /></div>\n\n<h3><strong><span style="color:black"><span style="font-family:helvetica neue">Our Library. Our City. Our Future.</span></span></strong></h3>\n<strong><span style="font-family:helvetica neue">A new beginning built on community\, access\, collaboration\, and intellectual freedom.</span></strong><span style="font-family:helvetica neue">&nbsp\;Libraries are evolving to meet the changing needs of their communities&mdash\;and the&nbsp\;<strong>2025 Sawyer Free Library</strong>&nbsp\;stands at the forefront of that evolution. With its transformative expansion and modernization\, Sawyer Free is expanding the reach of its extraordinary public service\, ensuring that more residents and visitors can benefit from&nbsp\;<strong>educational\, civic\, and cultural programs that are relevant\, inclusive\, and accessible to all.</strong></span><br />\n&nbsp\;
LOCATION:Sawyer Free Library\, Community Room\, 2 Dale Avenue\, Gloucester\, MA 01930
UID:e.2981.44885
SEQUENCE:3
DTSTAMP:20260422T060802Z
URL:https://business.capeannchamber.com/events/details/sawyer-free-libray-annual-meeting-44885
END:VEVENT

END:VCALENDAR
