BEGIN:VCALENDAR
VERSION:2.0
PRODID:-//ChamberMaster//Event Calendar 2.0//EN
METHOD:PUBLISH
X-PUBLISHED-TTL:P3D
REFRESH-INTERVAL:P3D
CALSCALE:GREGORIAN
BEGIN:VEVENT
DTSTART:20221203T180000Z
DTEND:20221203T183000Z
X-MICROSOFT-CDO-ALLDAYEVENT:FALSE
SUMMARY:Santa's Arrival by Lobster Boat - Rockport
DESCRIPTION:Join us for the return of this cherished Rockport tradition. Where else can you see Santa arrive by lobster boat? Santa will arrive at Rockport's T-Wharf on Rockport Harbor on Saturday\, December 3\, 2022\, at 1:00 PM\, following a brisk lobster boat ride across Sandy Bay. Then Santa will climb up onto a Rockport Forest Fire truck and proceed along T-Wharf and across the street to Rockport Baptist Church led by Rockport Cub Scouts and Brownies. This year Santa and Mrs. Claus will be able to linger a while to visit and have photos taken with the children at the church hall until the Tree Lighting Ceremony begins. \n\n\n\nThen Santa will head over to Dock Square to greet the crowd and kick off the Tree Lighting festivities\, before climbing back onto the fire truck to begin his long return journey to the North Pole.
X-ALT-DESC;FMTTYPE=text/html:<span style="background-color: rgb(255\, 255\, 255)\;"><font face="Merriweather"><span style="font-size: 14px\;">Join us for the return of this cherished Rockport tradition. Where else can you see Santa arrive by lobster boat? Santa will arrive at Rockport&rsquo\;s T-Wharf on Rockport Harbor on Saturday\, December 3\, 2022\,&nbsp\;at 1:00 PM\, following a brisk lobster boat ride across Sandy Bay. Then Santa will climb up onto a Rockport Forest Fire truck and proceed along T-Wharf and across the street to Rockport Baptist Church led by Rockport Cub Scouts and Brownies.&nbsp\;</span></font></span><span style="box-sizing: border-box\; border: 0px\; font-family: Merriweather\; font-size: 14px\; font-weight: 700\; margin: 0px\; outline: 0px\; padding: 0px\; vertical-align: baseline\; color: rgb(51\, 51\, 51)\; background-color: rgb(255\, 255\, 255)\;">This year Santa and Mrs. Claus will be able to linger a while to visit and have photos taken with the children at the church hall until the Tree Lighting Ceremony begins.</span><span style="color: rgb(51\, 51\, 51)\; font-family: Merriweather\; font-size: 14px\; background-color: rgb(255\, 255\, 255)\;">&nbsp\;<br />\n<br />\nThen Santa will head over to Dock Square to greet the crowd and kick off the Tree Lighting festivities\, before climbing back onto the fire truck to begin his long return journey to the North Pole.</span><br />\n<br />\n&nbsp\;
LOCATION:Downtown Rockport\, MA 01966
UID:e.2981.23279
SEQUENCE:3
DTSTAMP:20260424T090449Z
URL:https://business.capeannchamber.com/events/details/santa-s-arrival-by-lobster-boat-rockport-23279
END:VEVENT

END:VCALENDAR
