BEGIN:VCALENDAR
VERSION:2.0
PRODID:-//ChamberMaster//Event Calendar 2.0//EN
METHOD:PUBLISH
X-PUBLISHED-TTL:P3D
REFRESH-INTERVAL:P3D
CALSCALE:GREGORIAN
BEGIN:VEVENT
DTSTART:20241214T210000Z
DTEND:20241214T233000Z
X-MICROSOFT-CDO-ALLDAYEVENT:FALSE
SUMMARY:Santa Returns to the Castle
DESCRIPTION:December 14th & 15th\n\nTimed admission: 4:00 pm - 6:30 pm.\n\n\n\nExperience the magic as Santa Returns to the Castle\, now in its 6th year! Our Great Hall transforms into a winter wonderland where children's dreams come true. Meet Santa in a magical setting\, share wishes\, and receive a wrapped present\, a North Pole letter\, and milk and cookies. Mrs. Claus and Santa's helpers add to the festive spirit.\n\n\n\nGuests will also enjoy the Holiday Illumination and a portion of the Deck The Halls celebration. Starting with the steps leading from the parking lot\, attendees will enjoy the Holiday Illumination lights illuminating the castle's exterior\, including the iconic arches\, bell tower\, front towers\, and drawbridge. Inside the Museum\, from the Museum Shop to the Great Hall\, you'll catch a glimpse of the annual Deck The Halls holiday celebration where the Museum is dressed for the season.\n\n\n\nThis event is recommended for children aged 2 to 8 years old. Please note: Strollers and oversized baby carriers are not allowed within the Museum.\n\n\n\nDuring this event\, the Museum will be closed for tours. If you wish to tour Hammond Castle Museum on the day of the Santa Returns program\, Self-Guided Tour tickets are available for purchase in the Museum Shop at a 20% discount. Additionally\, children ages 4 and under enjoy free guided and self-guided tours with a ticket! Last tours begin at 1 pm. Proof of purchase for the Santa Returns to the Castle event will be required.\n\n\n\nParking is complimentary. We recommend arriving 15 minutes before your timed admission to allow ample time for the walk from the parking lot to the Museum\, check-in\, and descent into the Great Hall.\n\n\n\nAll ticket sales are final\, refunds are not available\, and exchanges for different times are not permitted. Please consider potential heavy traffic when planning your travel time.\n\n\n\nProceeds from this program support the restoration and preservation of the Museum. Member savings apply!\n\n\n\nSanta's Toys are generously sponsored by our friends at Gorton's.
X-ALT-DESC;FMTTYPE=text/html:<span style="background-color:rgb(255\, 255\, 255)\; color:rgb(24\, 24\, 24)\; font-family:-apple-system\,blinkmacsystemfont\,segoe ui\,roboto\,helvetica\,arial\,sans-serif\,apple color emoji\,segoe ui emoji\,segoe ui symbol\; font-size:14px">December 14th &amp\; 15th</span><br />\n<span style="background-color:rgb(255\, 255\, 255)\; color:rgb(24\, 24\, 24)\; font-family:-apple-system\,blinkmacsystemfont\,segoe ui\,roboto\,helvetica\,arial\,sans-serif\,apple color emoji\,segoe ui emoji\,segoe ui symbol\; font-size:14px">Timed admission: 4:00 pm - 6:30 pm.</span><br />\n<br />\n<span style="background-color:rgb(255\, 255\, 255)\; color:rgb(24\, 24\, 24)\; font-family:-apple-system\,blinkmacsystemfont\,segoe ui\,roboto\,helvetica\,arial\,sans-serif\,apple color emoji\,segoe ui emoji\,segoe ui symbol\; font-size:14px">Experience the magic as Santa Returns to the Castle\, now in its 6th year! Our Great Hall transforms into a winter wonderland where children&rsquo\;s dreams come true. Meet Santa in a magical setting\, share wishes\, and receive a wrapped present\, a North Pole letter\, and milk and cookies. Mrs. Claus and Santa&#39\;s helpers add to the festive spirit.</span><br />\n<br />\n<span style="background-color:rgb(255\, 255\, 255)\; color:rgb(24\, 24\, 24)\; font-family:-apple-system\,blinkmacsystemfont\,segoe ui\,roboto\,helvetica\,arial\,sans-serif\,apple color emoji\,segoe ui emoji\,segoe ui symbol\; font-size:14px">Guests will also enjoy the Holiday Illumination and a portion of the Deck The Halls celebration. Starting with the steps leading from the parking lot\, attendees will enjoy the Holiday Illumination lights illuminating the castle&#39\;s exterior\, including the iconic arches\, bell tower\, front towers\, and drawbridge. Inside the Museum\, from the Museum Shop to the Great Hall\, you&#39\;ll catch a glimpse of the annual Deck The Halls holiday celebration where the Museum is dressed for the season.</span><br />\n<br />\n<span style="background-color:rgb(255\, 255\, 255)\; color:rgb(24\, 24\, 24)\; font-family:-apple-system\,blinkmacsystemfont\,segoe ui\,roboto\,helvetica\,arial\,sans-serif\,apple color emoji\,segoe ui emoji\,segoe ui symbol\; font-size:14px">This event is recommended for children aged 2 to 8 years old. Please note: Strollers and oversized baby carriers are not allowed within the Museum.</span><br />\n<br />\n<span style="background-color:rgb(255\, 255\, 255)\; color:rgb(24\, 24\, 24)\; font-family:-apple-system\,blinkmacsystemfont\,segoe ui\,roboto\,helvetica\,arial\,sans-serif\,apple color emoji\,segoe ui emoji\,segoe ui symbol\; font-size:14px">During this event\, the Museum will be closed for tours. If you wish to tour Hammond Castle Museum on the day of the Santa Returns program\, Self-Guided Tour tickets are available for purchase in the Museum Shop at a 20% discount. Additionally\, children ages 4 and under enjoy free guided and self-guided tours with a ticket! Last tours begin at 1 pm. Proof of purchase for the Santa Returns to the Castle event will be required.</span><br />\n<br />\n<span style="background-color:rgb(255\, 255\, 255)\; color:rgb(24\, 24\, 24)\; font-family:-apple-system\,blinkmacsystemfont\,segoe ui\,roboto\,helvetica\,arial\,sans-serif\,apple color emoji\,segoe ui emoji\,segoe ui symbol\; font-size:14px">Parking is complimentary. We recommend arriving 15 minutes before your timed admission to allow ample time for the walk from the parking lot to the Museum\, check-in\, and descent into the Great Hall.</span><br />\n<br />\n<span style="background-color:rgb(255\, 255\, 255)\; color:rgb(24\, 24\, 24)\; font-family:-apple-system\,blinkmacsystemfont\,segoe ui\,roboto\,helvetica\,arial\,sans-serif\,apple color emoji\,segoe ui emoji\,segoe ui symbol\; font-size:14px">All ticket sales are final\, refunds are not available\, and exchanges for different times are not permitted. Please consider potential heavy traffic when planning your travel time.</span><br />\n<br />\n<span style="background-color:rgb(255\, 255\, 255)\; color:rgb(24\, 24\, 24)\; font-family:-apple-system\,blinkmacsystemfont\,segoe ui\,roboto\,helvetica\,arial\,sans-serif\,apple color emoji\,segoe ui emoji\,segoe ui symbol\; font-size:14px">Proceeds from this program support the restoration and preservation of the Museum. Member savings apply!</span><br />\n<br />\n<span style="background-color:rgb(255\, 255\, 255)\; color:rgb(24\, 24\, 24)\; font-family:-apple-system\,blinkmacsystemfont\,segoe ui\,roboto\,helvetica\,arial\,sans-serif\,apple color emoji\,segoe ui emoji\,segoe ui symbol\; font-size:14px">Santa&#39\;s Toys are generously sponsored by our friends at Gorton&#39\;s.</span><br />\n&nbsp\;
LOCATION:Hammond Castle Museum 80 Hesperus Avenue Gloucester\, MA
UID:e.2981.34197
SEQUENCE:3
DTSTAMP:20260424T152713Z
URL:https://business.capeannchamber.com/events/details/santa-returns-to-the-castle-12-14-2024-34197
END:VEVENT

END:VCALENDAR
