BEGIN:VCALENDAR
VERSION:2.0
PRODID:-//ChamberMaster//Event Calendar 2.0//EN
METHOD:PUBLISH
X-PUBLISHED-TTL:P3D
REFRESH-INTERVAL:P3D
CALSCALE:GREGORIAN
BEGIN:VEVENT
DTSTART:20250812T230000Z
DTEND:20250813T003000Z
X-MICROSOFT-CDO-ALLDAYEVENT:FALSE
SUMMARY:Sandy Bay Historical Society & Museums Presents "Rockport Baseball History"
DESCRIPTION:Join SBHS board members Peter Webber and Paige Eaton as they share findings and stories from their research into the history of baseball in Rockport. From Webster's field to Evans field\, you'll learn about some of the milestones\, people\, and places that make baseball in Rockport special. There will also be some baseball artifacts from the museum on hand for you to check out.
X-ALT-DESC;FMTTYPE=text/html:<div>\n<div>\n<div>\n<div>\n<p><span style="font-size:16px"><span style="font-family:verdana">Join SBHS board members Peter Webber and Paige Eaton as they share findings and stories from their research into the history of baseball in Rockport. From Webster&rsquo\;s field to Evans field\, you&rsquo\;ll learn about some of the milestones\, people\, and places that make baseball in Rockport special. There will also be some baseball artifacts from the museum on hand for you to check out.</span></span></p>\n</div>\n</div>\n</div>\n</div>\n
LOCATION:Brenner Friends Room Rockport Public Library 17 School Street Rockport\, MA 01966
UID:e.2981.41395
SEQUENCE:3
DTSTAMP:20260425T000022Z
URL:https://business.capeannchamber.com/events/details/sandy-bay-historical-society-museums-presents-rockport-baseball-history-41395
END:VEVENT

END:VCALENDAR
