BEGIN:VCALENDAR
VERSION:2.0
PRODID:-//ChamberMaster//Event Calendar 2.0//EN
METHOD:PUBLISH
X-PUBLISHED-TTL:P3D
REFRESH-INTERVAL:P3D
CALSCALE:GREGORIAN
BEGIN:VEVENT
DTSTART;VALUE=DATE:20231124
DTEND;VALUE=DATE:20240101
TRANSP:TRANSPARENT
X-MICROSOFT-CDO-ALLDAYEVENT:TRUE
SUMMARY:Sammy the Seagull Scavenger Hunt - Christmas in Rockport
DESCRIPTION:DOWNLOAD MAP\n\nDOWNLOAD GAME CARD\n\n\n\nThis fun scavenger hunt for kids is back this year for its 4th edition. Use you special decoder sheet to fill in the secret message and win real prizes.  Pick up your decoder sheet at the downtown visitor information shed\, the T-Wharf restrooms and a businesses throughout town. Sammy likes to hide in places all over Rockport. Each time that you find him\, he will give you a clue to answer his question. If you can solve the riddle\, he will give you prizes. \n\n\n\nPRIZES can be picked up at each of the following participating businesses: Brother's Brew\, Cedar Chest\, The Happy Whale\, Rusty and Ingrid Screen Prints\, Tucks Candy Factory\, Tuck's Candy & Gifts. Prize and seagull sign locations are marked on the 2023 Rockport Holiday Map. One set of prizes per child during the holiday season\, Friday\, 11/24/23 to Sunday\, 12/31/23. Shop owners may change prizes that are given away during the holiday season at their own discretion. Prizes available while supplies last. No cash value.
X-ALT-DESC;FMTTYPE=text/html:<span style="font-size:16px\;"><span style="font-family:arial\;"><span style="color: rgb(14\, 14\, 14)\; text-align: center\;"><a href="https://chambermaster.blob.core.windows.net/userfiles/UserFiles/chambers/2981/File/2023-Rockport-HolidayMap-draft4-FIXED.pdf">DOWNLOAD MAP</a><br />\n<a href="https://chambermaster.blob.core.windows.net/userfiles/UserFiles/chambers/2981/File/Seagull-Handout-2023-draft2.pdf">DOWNLOAD GAME CARD</a><br />\n<br />\nThis fun scavenger hunt for kids is back this year for its 4th edition. Use you special decoder sheet to fill in the secret message and win real prizes.&nbsp\; Pick up your decoder sheet at the downtown visitor information shed\, the T-Wharf restrooms and a businesses throughout town.&nbsp\;</span><span style="box-sizing: border-box\; color: var( --e-global-color-text )\; letter-spacing: 0px\; text-align: center\; background-color: var( --e-global-color-c696dce )\;">Sammy likes to hide in places all over Rockport. Each time that you find him\, he will give you a clue to answer his question. If you can solve the riddle\, he will give you prizes.&nbsp\;</span><br />\n<br />\nPRIZES can be picked up at each of the following participating businesses:&nbsp\;Brother&rsquo\;s Brew\, Cedar Chest\, The Happy Whale\, Rusty and Ingrid Screen Prints\, Tucks Candy Factory\,&nbsp\;Tuck&rsquo\;s Candy &amp\; Gifts. Prize and seagull sign locations are marked on the <a href="https://chambermaster.blob.core.windows.net/userfiles/UserFiles/chambers/2981/File/2023-Rockport-HolidayMap-draft4-FIXED.pdf">2023 Rockport Holiday Map</a>. One set of prizes per child during the holiday season\, Friday\, 11/24/23 to Sunday\, 12/31/23. Shop owners&nbsp\;may change prizes that are given away during the holiday season at their own discretion. Prizes available&nbsp\;while supplies last. No cash value.</span></span>
LOCATION:Drop Off Completed Cards at One of the Following Retailers: Brother's Brew Cedar Chest The Happy Whale Rusty and Ingrid Screen Prints Tucks Candy Factory Tuck's Candy & Gifts
UID:e.2981.27072
SEQUENCE:3
DTSTAMP:20260421T215008Z
URL:https://business.capeannchamber.com/events/details/sammy-the-seagull-scavenger-hunt-christmas-in-rockport-27072
END:VEVENT

END:VCALENDAR
