BEGIN:VCALENDAR
VERSION:2.0
PRODID:-//ChamberMaster//Event Calendar 2.0//EN
METHOD:PUBLISH
X-PUBLISHED-TTL:P3D
REFRESH-INTERVAL:P3D
CALSCALE:GREGORIAN
BEGIN:VEVENT
DTSTART:20251105T233000Z
DTEND:20251106T010000Z
X-MICROSOFT-CDO-ALLDAYEVENT:FALSE
SUMMARY:Salt & Moon Magic: Full Moon Circle in the Salt Cave
DESCRIPTION:Join Grace & step into the glow of the full moon and the shimmering peace of the salt cave with...\n\nGuided meditation\n\nIntention-setting \n\nAstrology insights \n\nCommunity connection \n\nTake-home handcrafted flower essence ??\n\n \n\nThe salt cave itself will hold us in its calming\, restorative energy\, amplifying the full moon's power to clear and recharge.\n\nCome ready to breathe deeply\, laugh\, set intentions\, and celebrate under the moon's radiance.
X-ALT-DESC;FMTTYPE=text/html:<p><span style="color:rgba(0\,0\,0\,var(--O42jJQ\,1))">Join Grace &amp\; step into the glow of the full moon and the shimmering peace of the salt cave with...</span></p>\n\n<p><strong>Guided meditation</strong></p>\n\n<p><strong>Intention-setting</strong><strong> </strong></p>\n\n<p><strong>Astrology insights</strong><strong> </strong></p>\n\n<p><strong>Community connection</strong><strong> </strong></p>\n\n<p><strong>Take-home handcrafted flower essence</strong><span style="color:rgba(130\,29\,48\,var(--O42jJQ\,1))"> ??</span><br />\n&nbsp\;</p>\n\n<p><span style="color:rgba(0\,0\,0\,var(--O42jJQ\,1))">The salt cave itself will hold us in its calming\, restorative energy\, amplifying the full moon&rsquo\;s power to clear and recharge.</span></p>\n\n<p><strong>Come ready to breathe deeply\, laugh\, set intentions\, and celebrate under the moon&rsquo\;s radiance.</strong></p>\n
LOCATION:232 Main St Gloucester 01930
UID:e.2981.44876
SEQUENCE:3
DTSTAMP:20260422T060920Z
URL:https://business.capeannchamber.com/events/details/salt-moon-magic-full-moon-circle-in-the-salt-cave-44876
END:VEVENT

END:VCALENDAR
