BEGIN:VCALENDAR
VERSION:2.0
PRODID:-//ChamberMaster//Event Calendar 2.0//EN
METHOD:PUBLISH
X-PUBLISHED-TTL:P3D
REFRESH-INTERVAL:P3D
CALSCALE:GREGORIAN
BEGIN:VEVENT
DTSTART:20250613T233000Z
DTEND:20250614T020000Z
X-MICROSOFT-CDO-ALLDAYEVENT:FALSE
SUMMARY:Ryanhood - Eva James opens
DESCRIPTION:Named 'Best Group/Duo' in the International Acoustic Music Awards\, acoustic-duo Ryanhood got their first break more than a decade ago as street-performers at Boston's Quincy Market. It was there that they were spotted by a college booking agent and thrust into the college touring scene\, where Campus Activities Magazine would name them "one of the most requested acts by college buyers all across the country." They've since gone on to perform more than a thousand shows in 46 U.S. states over the past decade\, and have shared stages with Jason Mraz\, Matt Nathanson\, Train\, and many more.\n\nA mesmerizing force in the realm of intimate dark pop\, Eva James emerges with a voice that embodies both complexity and strength. Her music conjures a delicate balance of haunting beauty and raw vulnerability\, drawing listeners into a world where shadows reveal their own kind of light.
X-ALT-DESC;FMTTYPE=text/html:Named &lsquo\;Best Group/Duo&rsquo\; in the International Acoustic Music Awards\, acoustic-duo <a href="https://www.ryanhood.com" rel="noreferrer" target="_blank">Ryanhood</a> got their first break more than a decade ago as street-performers at Boston&rsquo\;s Quincy Market. It was there that they were spotted by a college booking agent and thrust into the college touring scene\, where Campus Activities Magazine would name them &ldquo\;one of the most requested acts by college buyers all across the country.&rdquo\; They&rsquo\;ve since gone on to perform more than a thousand shows in 46 U.S. states over the past decade\, and have shared stages with Jason Mraz\, Matt Nathanson\, Train\, and many more.<br />\nA mesmerizing force in the realm of intimate dark pop\, <a href="https://evajamesofficial.com" rel="noreferrer" target="_blank">Eva James</a> emerges with a voice that embodies both complexity and strength. Her music conjures a delicate balance of haunting beauty and raw vulnerability\, drawing listeners into a world where shadows reveal their own kind of light.
LOCATION:Old Sloop Presents First Congregational Church 12 School St. Rockport\, MA 01966
UID:e.2981.36551
SEQUENCE:3
DTSTAMP:20260424T211119Z
URL:https://business.capeannchamber.com/events/details/ryanhood-eva-james-opens-36551
END:VEVENT

END:VCALENDAR
