BEGIN:VCALENDAR
VERSION:2.0
PRODID:-//ChamberMaster//Event Calendar 2.0//EN
METHOD:PUBLISH
X-PUBLISHED-TTL:P3D
REFRESH-INTERVAL:P3D
CALSCALE:GREGORIAN
BEGIN:VEVENT
DTSTART:20260313T233000Z
DTEND:20260314T020000Z
X-MICROSOFT-CDO-ALLDAYEVENT:FALSE
SUMMARY:RUNA
DESCRIPTION:Celtic-American Roots music "super group" RUNA will return to the Old Sloop Presents performing arts series Friday\, March 13.\n\nCelebrating 14 years together as a band\, RUNA continues to push the boundaries of Irish folk music into the Americana and roots music formats. Interweaving the haunting melodies and exuberant tunes of Ireland and Scotland with the lush harmonies and intoxicating rhythms of jazz\, bluegrass\, flamenco and blues\, they offer a thrilling and redefining take on traditional music.\n\nSeeking to preserve and continue a traditional culture in a modern age\, RUNA creates the backbone of its signature roots sound from the musical and geographical diversity of its individually established band members. Their search for excellence and creativity blazes a trail for the future of folk music\, earning them the reputation as one of the most innovative Irish folk groups of this generation.
X-ALT-DESC;FMTTYPE=text/html:<span style="font-family:times new roman\,serif"><span style="font-size:12.0pt">Celtic-American Roots music &ldquo\;super group&rdquo\; <a href="https://runamusic.com/">RUNA</a> will return to the Old Sloop Presents performing arts series Friday\, March 13.</span></span><br />\n<span style="font-family:times new roman\,serif"><span style="font-size:12.0pt">Celebrating 14 years together as a band\, RUNA continues to push the boundaries of Irish folk music into the Americana and roots music formats. Interweaving the haunting melodies and exuberant tunes of Ireland and Scotland with the lush harmonies and intoxicating rhythms of jazz\, bluegrass\, flamenco and blues\, they offer a thrilling and redefining take on traditional music.</span></span><br />\n<span style="font-family:times new roman\,serif"><span style="font-size:12.0pt">Seeking to preserve and continue a traditional culture in a modern age\, RUNA creates the backbone of its signature roots sound from the musical and geographical diversity of its individually established band members. Their search for excellence and creativity blazes a trail for the future of folk music\, earning them the reputation as one of the most innovative Irish folk groups of this generation.</span></span><br />\n&nbsp\;
LOCATION:Old Sloop Presents First Congregational Church of Rockport 12 School St Rockport\, MA 01966
UID:e.2981.46422
SEQUENCE:3
DTSTAMP:20260425T110528Z
URL:https://business.capeannchamber.com/events/details/runa-46422
END:VEVENT

END:VCALENDAR
