BEGIN:VCALENDAR
VERSION:2.0
PRODID:-//ChamberMaster//Event Calendar 2.0//EN
METHOD:PUBLISH
X-PUBLISHED-TTL:P3D
REFRESH-INTERVAL:P3D
CALSCALE:GREGORIAN
BEGIN:VEVENT
DTSTART:20131130T170000Z
DTEND:20131229T210000Z
X-MICROSOFT-CDO-ALLDAYEVENT:FALSE
SUMMARY:Rocky Neck Holiday Art & Fine Crafts Festival
DESCRIPTION:The Rocky Neck Holiday Art & Fine Crafts Festival will be held at The Cultural Center at Rocky Neck\, 6 Wonson Street Saturdays and Sundays\, Noon-4 PM November 30 - December 29.  Don't miss this fabulous holiday season event featuring a beautiful selection of jewelry\, pottery\, wearable & functional art\, books\, calendars\, cards\, photographs\, paintings & more by Rocky Neck Art Colony member artists and artisans.  Free admission. Join the fun while shopping locally Saturday\, December 7\, 2-4 PM High Tea Sunday\, December 15\, 3-5 PM Happy Hour Saturday\, December 21\, 2-4 PM Winter Solstice Party Sunday\, December 29\, 2-4 PM Pre New Year's Party.\nExhibits by: Kathleen Gerdon Archer\, Donna Ardizzoni\, Katherine Bagley\, belle + me (Lisa LeVasseur & Anne Malvaux)\, Kristie Bernard\, Stevie Black\, Judith Bly\, Pauline Bresnahan\, Beth Buckingham\, Len Burgess\, Alice Gardner\, Nina Goodick\, Deborah Geurtze\, Susan Hershey\, Susan Johnson\, Jane Keddy\, EJ Lefavour\, Brenda Malloy\, Mary McCarl\, Carol McKenna\, Adriana ''Gigi'' Mederos\, Jen Moltoni\, Tom Nihan\, Sinikka Nogelo\, Michael Oleksiw\, Eileen Patten Oliver\, Regina Piantedosi\, Jenny Rangan\, Ramani Rangan\, Tom Robinson-Cox\, Judy Robinson-Cox\, Deb Schradieck\, Janet Souza\, Martha Swanson\, Theresa Testaverde\, Karen Tibbetts\, Anna Vojtech\, Jan Walker\, Deborah Way\, Chris Williams\, Seyrel Williams\, Ruth Worrall\, Heidi Caswell Zander
X-ALT-DESC;FMTTYPE=text/html:The Rocky Neck Holiday Art & Fine Crafts Festival will be held at The Cultural Center at Rocky Neck\, 6 Wonson Street Saturdays and Sundays\, Noon-4 PM November 30 - December 29.  Don't miss this fabulous holiday season event featuring a beautiful selection of jewelry\, pottery\, wearable & functional art\, books\, calendars\, cards\, photographs\, paintings & more by Rocky Neck Art Colony member artists and artisans.  Free admission. Join the fun while shopping locally Saturday\, December 7\, 2-4 PM High Tea Sunday\, December 15\, 3-5 PM Happy Hour Saturday\, December 21\, 2-4 PM Winter Solstice Party Sunday\, December 29\, 2-4 PM Pre New Year's Party.\nExhibits by: Kathleen Gerdon Archer\, Donna Ardizzoni\, Katherine Bagley\, belle + me (Lisa LeVasseur & Anne Malvaux)\, Kristie Bernard\, Stevie Black\, Judith Bly\, Pauline Bresnahan\, Beth Buckingham\, Len Burgess\, Alice Gardner\, Nina Goodick\, Deborah Geurtze\, Susan Hershey\, Susan Johnson\, Jane Keddy\, EJ Lefavour\, Brenda Malloy\, Mary McCarl\, Carol McKenna\, Adriana ''Gigi'' Mederos\, Jen Moltoni\, Tom Nihan\, Sinikka Nogelo\, Michael Oleksiw\, Eileen Patten Oliver\, Regina Piantedosi\, Jenny Rangan\, Ramani Rangan\, Tom Robinson-Cox\, Judy Robinson-Cox\, Deb Schradieck\, Janet Souza\, Martha Swanson\, Theresa Testaverde\, Karen Tibbetts\, Anna Vojtech\, Jan Walker\, Deborah Way\, Chris Williams\, Seyrel Williams\, Ruth Worrall\, Heidi Caswell Zander  \n
LOCATION:6 Wonson Street\, Gloucester\, MA 01930 Directions: The beautiful Cultural Center at Rocky Neck (in what used to be the Christian Science Church) is located at 6 Wonson Street on Rocky Neck in East Gloucester. There is plenty of free parking in the public lot at the beginning of Rocky Neck Ave. (a short walk to the Center)\, as well as street parking on Rocky Neck Ave. and Wonson Street.
UID:e.2981.1153
SEQUENCE:3
DTSTAMP:20260420T035513Z
URL:https://business.capeannchamber.com/events/details/rocky-neck-holiday-art-fine-crafts-festival-11-30-2013-1153
END:VEVENT

END:VCALENDAR
