BEGIN:VCALENDAR
VERSION:2.0
PRODID:-//ChamberMaster//Event Calendar 2.0//EN
METHOD:PUBLISH
X-PUBLISHED-TTL:P3D
REFRESH-INTERVAL:P3D
CALSCALE:GREGORIAN
BEGIN:VEVENT
DTSTART:20241214T220000Z
DTEND:20241215T010000Z
X-MICROSOFT-CDO-ALLDAYEVENT:FALSE
SUMMARY:Rockport Second Saturdays ArtWalk
DESCRIPTION:Mark Your Calendars!  The artists and galleries of Rockport invite you to Second Saturdays ArtWalk.\n\n\n\nNew in Rockport this year\, ArtWalk events will be held on the second Saturday of every month from 5 PM - 8 PM\, beginning June 8th!\n\n\n\nA wide range of artwork\, including painting\, printmaking\, photography\, pottery\, and sculpture\, will be on view.  In addition\, Rockport Art Association & Museum will be extending their normal hours to 8 PM for the ArtWalk evenings.\n\n\n\nMeet the artists\, sip\, shop\, and stroll around enjoying the seaside ambience.\n\n\n\nThe event's website http://www.rockportartists.com has an interactive map where visitors can find information and the location of each of the -participating galleries.
X-ALT-DESC;FMTTYPE=text/html:Mark Your Calendars!&nbsp\; The artists and galleries of Rockport invite you to Second Saturdays ArtWalk.<br />\n<br />\nNew in Rockport this year\, ArtWalk events will be held on the second Saturday of every month from 5 PM - 8 PM\, beginning June 8th!<br />\n<br />\nA wide range of artwork\, including painting\, printmaking\, photography\, pottery\, and sculpture\, will be on view.&nbsp\; In addition\, Rockport Art Association &amp\; Museum will be extending their normal hours to 8 PM for the ArtWalk evenings.<br />\n<br />\nMeet the artists\, sip\, shop\, and stroll around enjoying the seaside ambience.<br />\n<br />\nThe event&#39\;s website&nbsp\;<a href="http://www.rockportartists.com">http://www.rockportartists.com</a>&nbsp\;has an interactive map where visitors can find information and the location of each of the -participating galleries.
LOCATION:Downtown Rockport
UID:e.2981.32656
SEQUENCE:3
DTSTAMP:20260424T152638Z
URL:https://business.capeannchamber.com/events/details/rockport-second-saturdays-artwalk-12-14-2024-32656
END:VEVENT

END:VCALENDAR
