BEGIN:VCALENDAR
VERSION:2.0
PRODID:-//ChamberMaster//Event Calendar 2.0//EN
METHOD:PUBLISH
X-PUBLISHED-TTL:P3D
REFRESH-INTERVAL:P3D
CALSCALE:GREGORIAN
BEGIN:VEVENT
DTSTART:20250704T140000Z
DTEND:20250704T143000Z
X-MICROSOFT-CDO-ALLDAYEVENT:FALSE
SUMMARY:Rockport Rotary Declaration of Indepence Reading
DESCRIPTION:The Rotary Club of Rockport celebrates the 4th of July in style! The day always begins with the reading of the Declaration of Independence in Dock Square at 10:00 am. The crowd is instructed to respond with a "Huzzah" when something good is read\, or a "Fi" when something reprehensible occurs! Rotarians are dressed in period costumes and encourages audience participation.
X-ALT-DESC;FMTTYPE=text/html:<div style="box-sizing: border-box\; color: rgb(34\, 34\, 34)\; font-family: Frutiger\, &quot\;Open Sans&quot\;\, Arial\, Helvetica\, sans-serif\; font-size: 15px\;">The Rotary Club of Rockport celebrates the 4th of July in style! The day always begins with the reading of the Declaration of Independence in Dock Square at 10:00 am. The crowd is instructed to respond with a &ldquo\;Huzzah&rdquo\; when something good is read\, or a &ldquo\;Fi&rdquo\; when something reprehensible occurs! Rotarians are dressed in period costumes and encourages audience participation.</div>\n
LOCATION:Dock Square\, Rockport
UID:e.2981.37355
SEQUENCE:3
DTSTAMP:20260422T093653Z
URL:https://business.capeannchamber.com/events/details/rockport-rotary-declaration-of-indepence-reading-37355
END:VEVENT

END:VCALENDAR
