BEGIN:VCALENDAR
VERSION:2.0
PRODID:-//ChamberMaster//Event Calendar 2.0//EN
METHOD:PUBLISH
X-PUBLISHED-TTL:P3D
REFRESH-INTERVAL:P3D
CALSCALE:GREGORIAN
BEGIN:VEVENT
DTSTART:20241231T210000Z
DTEND:20241231T050000Z
X-MICROSOFT-CDO-ALLDAYEVENT:FALSE
SUMMARY:Rockport New Year's Eve 2024
DESCRIPTION:Let's bring in the New Year! Rockport's annual year-end celebration of the arts offers a wide range of entertainment for adults and children beginning at 4 PM and culminating with a midnight ball drop. The 12 downtown entertainment venues will include halls\, churches\, and restaurants\, all within easy walking distance of one another. The Beauport Shuttle will circulate among the venues and parking areas. Activities include all kinds of music\, dance\, poetry\, magic\, juggling\, and puppetry.
X-ALT-DESC;FMTTYPE=text/html:<span style="font-family:arial\;"><span style="color: rgb(14\, 14\, 14)\; font-size: 14px\; text-align: center\;">Let&#39\;s bring in the New Year! Rockport&rsquo\;s annual year-end celebration of the arts offers a wide range of entertainment for adults and children beginning at 4 PM and culminating with a midnight ball drop. The 12 downtown entertainment venues will include halls\, churches\, and restaurants\, all within easy walking distance of one another. The Beauport Shuttle will circulate among the venues and parking areas. Activities include all kinds of music\, dance\, poetry\, magic\, juggling\, and puppetry.&nbsp\;</span></span>
LOCATION:Dock Square Rockport\, MA 01966
UID:e.2981.33215
SEQUENCE:3
DTSTAMP:20260424T141049Z
URL:https://business.capeannchamber.com/events/details/rockport-new-year-s-eve-2024-33215
END:VEVENT

END:VCALENDAR
