BEGIN:VCALENDAR
VERSION:2.0
PRODID:-//ChamberMaster//Event Calendar 2.0//EN
METHOD:PUBLISH
X-PUBLISHED-TTL:P3D
REFRESH-INTERVAL:P3D
CALSCALE:GREGORIAN
BEGIN:VEVENT
DTSTART:20221231T230000Z
DTEND:20230101T050000Z
X-MICROSOFT-CDO-ALLDAYEVENT:FALSE
SUMMARY:Rockport New Year's Eve
DESCRIPTION:Rockport New Year's Eve is an annual family-friendly New Year's Eve celebration of the arts in picturesque downtown Rockport\, Massachusetts. Events take place at more than 15 venues\, all within easy walking distance of one another. Most of the venues are handicap accessible. Admission to most events requires the purchase of an inexpensive button\, and a few events are free. Performances include all kinds of music\, storytelling\, puppet shows\, magic\, and much more. Activities conclude with a midnight ball drop.
X-ALT-DESC;FMTTYPE=text/html:<font face="calibri\, sans-serif"><span style="font-size: 11pt\;">Rockport New </span><span style="font-size: 14.6667px\;">Year&#39\;s</span><span style="font-size: 11pt\;">&nbsp\;Eve is an annual family-friendly New Year&#39\;s Eve celebration of the arts in picturesque downtown Rockport\, Massachusetts. Events take place at more than 15 venues\, all within easy walking distance of one another. Most of the venues are handicap accessible. Admission to most events requires the purchase of an inexpensive button\, and a few events are free. Performances include all kinds of music\, </span><span style="font-size: 14.6667px\;">storytelling</span><span style="font-size: 11pt\;">\, puppet shows\, magic\, and much more. Activities conclude with a midnight ball drop.</span></font>
LOCATION:Downtown Rockport. Event headquarters is at Spiran Hall\, 19 School St.
UID:e.2981.23288
SEQUENCE:3
DTSTAMP:20260424T090619Z
URL:https://business.capeannchamber.com/events/details/rockport-new-year-s-eve-12-31-2022-23288
END:VEVENT

END:VCALENDAR
