BEGIN:VCALENDAR
VERSION:2.0
PRODID:-//ChamberMaster//Event Calendar 2.0//EN
METHOD:PUBLISH
X-PUBLISHED-TTL:P3D
REFRESH-INTERVAL:P3D
CALSCALE:GREGORIAN
BEGIN:VEVENT
DTSTART:20220319T000000Z
DTEND:20220319T020000Z
X-MICROSOFT-CDO-ALLDAYEVENT:FALSE
SUMMARY:Rockport Music Presents Vincent Peirani & Emile Parisien
DESCRIPTION:Two of France's most revered young jazz artists\, accordionist Vincent Peirani and saxophonist  mile Parisien\, join forces for an incredible evening of jazz\, chanson and tango. The duo\, both award-winning stars in their own right\, are touring off the release of their new tango-inspired record Abrazo.
X-ALT-DESC;FMTTYPE=text/html:<span style="color:rgb(0\, 0\, 0)\; font-family:docs-calibri\; font-size:15px">Two of France&rsquo\;s most revered young jazz artists\, accordionist Vincent Peirani and saxophonist &Eacute\;mile Parisien\, join forces for an incredible evening of jazz\, chanson and tango. The duo\, both award-winning stars in their own right\, are touring off the release of their new tango-inspired record Abrazo.</span>
LOCATION:Two of France's most revered young jazz artists\, accordionist Vincent Peirani and saxophonist mile Parisien\, join forces for an incredible evening of jazz\, chanson and tango. The duo\, both award-winning stars in their own right\, are touring off the release of their new tango-inspired record Abrazo.
UID:e.2981.21755
SEQUENCE:3
DTSTAMP:20260420T124907Z
URL:https://business.capeannchamber.com/events/details/rockport-music-presents-vincent-peirani-emile-parisien-21755
END:VEVENT

END:VCALENDAR
