BEGIN:VCALENDAR
VERSION:2.0
PRODID:-//ChamberMaster//Event Calendar 2.0//EN
METHOD:PUBLISH
X-PUBLISHED-TTL:P3D
REFRESH-INTERVAL:P3D
CALSCALE:GREGORIAN
BEGIN:VEVENT
DTSTART:20211024T230000Z
DTEND:20211024T230000Z
X-MICROSOFT-CDO-ALLDAYEVENT:FALSE
SUMMARY:Rockport Music Presents: Under the Streetlamp
DESCRIPTION:Under The Streetlamp delivers an electrifying evening of classic hits from the American radio songbook\, bringing their unique blend of tight harmonies and slick dance moves to your favorite doo-wop\, Motown\, and old time rock 'n' roll hits.
X-ALT-DESC;FMTTYPE=text/html:Under The Streetlamp delivers an electrifying evening of classic hits from the American radio songbook\, bringing their unique blend of tight harmonies and slick dance moves to your favorite doo-wop\, Motown\, and old time rock &lsquo\;n&rsquo\; roll hits.
LOCATION:
UID:e.2981.21255
SEQUENCE:3
DTSTAMP:20260424T111035Z
URL:https://business.capeannchamber.com/events/details/rockport-music-presents-under-the-streetlamp-21255
END:VEVENT

END:VCALENDAR
