BEGIN:VCALENDAR
VERSION:2.0
PRODID:-//ChamberMaster//Event Calendar 2.0//EN
METHOD:PUBLISH
X-PUBLISHED-TTL:P3D
REFRESH-INTERVAL:P3D
CALSCALE:GREGORIAN
BEGIN:VEVENT
DTSTART:20220306T010000Z
DTEND:20220306T030000Z
X-MICROSOFT-CDO-ALLDAYEVENT:FALSE
SUMMARY:Rockport Music Presents Rickie Lee Jones
DESCRIPTION:Working in the sweet spot between folk\, jazz and pop since the late 70's with hits like "Chuck E.'s in Love\," Rickie Lee Jones remains an artist of boundless curiosity with a sophisticated cool sensibility. Ever since her debut\, Jones has created music that consistently defies easy categorization\, an aesthetic she writes about in her brand new memoir\, Last Chance Texaco: Chronicles of an American Troubadour.
X-ALT-DESC;FMTTYPE=text/html:<span style="color:rgb(0\, 0\, 0)\; font-family:docs-calibri\; font-size:15px">Working in the sweet spot between folk\, jazz and pop since the late 70&rsquo\;s with hits like &ldquo\;Chuck E.&rsquo\;s in Love\,&rdquo\; Rickie Lee Jones remains an artist of boundless curiosity with a sophisticated cool sensibility. Ever since her debut\, Jones has created music that consistently defies easy categorization\, an aesthetic she writes about in her brand new memoir\, Last Chance Texaco: Chronicles of an American Troubadour.</span>
LOCATION:Shalin Liu Performance Center 37 Main Street Rockport\, MA 01944
UID:e.2981.21754
SEQUENCE:3
DTSTAMP:20260420T125741Z
URL:https://business.capeannchamber.com/events/details/rockport-music-presents-rickie-lee-jones-21754
END:VEVENT

END:VCALENDAR
