BEGIN:VCALENDAR
VERSION:2.0
PRODID:-//ChamberMaster//Event Calendar 2.0//EN
METHOD:PUBLISH
X-PUBLISHED-TTL:P3D
REFRESH-INTERVAL:P3D
CALSCALE:GREGORIAN
BEGIN:VEVENT
DTSTART:20220312T010000Z
DTEND:20220312T030000Z
X-MICROSOFT-CDO-ALLDAYEVENT:FALSE
SUMMARY:Rockport Music Presents: Isata Kanneh-Mason\, piano
DESCRIPTION:Isata Kanneh-Mason is the recipient of the 2021 Leonard Bernstein Award\, a 2020 Opus Klassik award for best young artist and\, as a member of the Kanneh-Mason family\, the 2021 best classical artist at the Global Awards. Her debut album on Decca Classics\, Romance   the Piano Music of Clara Schumann\, drew popular and critical acclaim\, entering the UK classical charts at No. 1 when it was released in July 2019 and leading Gramophone magazine to extol the recording as "one of the most charming and engaging debuts" and Classic FM to praise Isata as "a player of considerable talent". This was followed in July 2021 by Summertime\, a journey through the varied piano repertoire of 20th -century America featuring Samuel Barber's Piano Sonata and a world premiere recording of Samuel Coleridge-Taylor's Impromptu in B minor.
X-ALT-DESC;FMTTYPE=text/html:<span style="color:rgb(0\, 0\, 0)\; font-family:docs-calibri\; font-size:15px">Isata Kanneh-Mason is the recipient of the 2021 Leonard Bernstein Award\, a 2020 Opus Klassik award for best young artist and\, as a member of the Kanneh-Mason family\, the 2021 best classical artist at the Global Awards. Her debut album on Decca Classics\, Romance &ndash\; the Piano Music of Clara Schumann\, drew popular and critical acclaim\, entering the UK classical charts at No. 1 when it was released in July 2019 and leading Gramophone magazine to extol the recording as &ldquo\;one of the most charming and engaging debuts&rdquo\; and Classic FM to praise Isata as &ldquo\;a player of considerable talent&rdquo\;. This was followed in July 2021 by Summertime\, a journey through the varied piano repertoire of 20th -century America featuring Samuel Barber&rsquo\;s Piano Sonata and a world premiere recording of Samuel Coleridge-Taylor&rsquo\;s Impromptu in B minor.</span>
LOCATION:Shalin Liu Performance Center 37 Main Street Rockport\, MA 01966
UID:e.2981.21749
SEQUENCE:3
DTSTAMP:20260420T125810Z
URL:https://business.capeannchamber.com/events/details/rockport-music-presents-isata-kanneh-mason-piano-21749
END:VEVENT

END:VCALENDAR
