BEGIN:VCALENDAR
VERSION:2.0
PRODID:-//ChamberMaster//Event Calendar 2.0//EN
METHOD:PUBLISH
X-PUBLISHED-TTL:P3D
REFRESH-INTERVAL:P3D
CALSCALE:GREGORIAN
BEGIN:VEVENT
DTSTART:20211010T230000Z
DTEND:20211011T010000Z
X-MICROSOFT-CDO-ALLDAYEVENT:FALSE
SUMMARY:Rockport Music Presents Chris Thile
DESCRIPTION:The Grammy-winning mandolin virtuoso is most known for his time as part of the folk pop trio Nickel Creek and leading the progressive bluegrass juggernaut Punch Brothers\, as well as for being the host of NPR's Live from Here. He will make his Rockport debut with a solo show touring behind his newest record\, Laysongs.\n\nWith his broad outlook\, Chris Thile transcends the borders of conventionally circumscribed genres\, creating a distinctly American canon and a new musical aesthetic for performers and audiences alike.
X-ALT-DESC;FMTTYPE=text/html:<p>The Grammy-winning mandolin virtuoso is most known for his time as part of the folk pop trio Nickel Creek and leading the progressive bluegrass juggernaut Punch Brothers\, as well as for being the host of NPR&rsquo\;s <em>Live from Here</em>. He will make his Rockport debut with a solo show touring behind his newest record\, <em>Laysongs</em>.</p>\n\n<p>With his broad outlook\, Chris Thile transcends the borders of conventionally circumscribed genres\, creating a distinctly American canon and a new musical aesthetic for performers and audiences alike.</p>\n
LOCATION:
UID:e.2981.21219
SEQUENCE:3
DTSTAMP:20260424T110630Z
URL:https://business.capeannchamber.com/events/details/rockport-music-presents-chris-thile-21219
END:VEVENT

END:VCALENDAR
