BEGIN:VCALENDAR
VERSION:2.0
PRODID:-//ChamberMaster//Event Calendar 2.0//EN
METHOD:PUBLISH
X-PUBLISHED-TTL:P3D
REFRESH-INTERVAL:P3D
CALSCALE:GREGORIAN
BEGIN:VEVENT
DTSTART:20210824T040000Z
DTEND:20210824T040000Z
X-MICROSOFT-CDO-ALLDAYEVENT:FALSE
SUMMARY:Rockport Music Presents: Carbon Leaf
DESCRIPTION:Blending rock\, folk\, Celtic\, bluegrass and Americana traditions into a high-energy style the group calls ether-electrified porch music\, the Virginia quintet's poetic songs are brought to life with an array of instruments and rich vocal harmonies\, and is touring in support of their new release Gathering 2: The Hunting Ground.
X-ALT-DESC;FMTTYPE=text/html:Blending rock\, folk\, Celtic\, bluegrass and Americana traditions into a high-energy style the group calls&nbsp\;ether-electrified porch music\, the Virginia quintet&rsquo\;s poetic songs are brought to life with an array of instruments and rich vocal harmonies\, and is touring in support of their new release<em> Gathering 2: The Hunting Ground.</em>
LOCATION:
UID:e.2981.21259
SEQUENCE:3
DTSTAMP:20260424T220028Z
URL:https://business.capeannchamber.com/events/details/rockport-music-presents-carbon-leaf-21259
END:VEVENT

END:VCALENDAR
