BEGIN:VCALENDAR
VERSION:2.0
PRODID:-//ChamberMaster//Event Calendar 2.0//EN
METHOD:PUBLISH
X-PUBLISHED-TTL:P3D
REFRESH-INTERVAL:P3D
CALSCALE:GREGORIAN
BEGIN:VEVENT
DTSTART:20140906T000000Z
DTEND:20140906T000000Z
X-MICROSOFT-CDO-ALLDAYEVENT:FALSE
SUMMARY:Rockport Music presents: Cantrip
DESCRIPTION:A trio injecting a youthful energy and flair to Scottish traditional music\, Cantrip has quickly become one of the most admired Celtic acts working today. Expertly balancing tradition and innovation\, the band infuses a modern sensibility to beloved chestnuts of the Scottish folk canon as well as their own impressive compositions. \n\nPurchase Tickets: http://tickets.rockportmusic.org/single/SYOS.aspx?p=2475
X-ALT-DESC;FMTTYPE=text/html:A trio injecting a youthful energy and flair to Scottish traditional music\, Cantrip has quickly become one of the most admired Celtic acts working today. Expertly balancing tradition and innovation\, the band infuses a modern sensibility to beloved chestnuts of the Scottish folk canon as well as their own impressive compositions. \n\nPurchase Tickets: http://tickets.rockportmusic.org/single/SYOS.aspx?p=2475\n
LOCATION:Shalin Liu Performance Center\, Rockport\, Ma 01966 http://www.rockportmusic.org/directions-and-parking/
UID:e.2981.1459
SEQUENCE:3
DTSTAMP:20260419T135852Z
URL:https://business.capeannchamber.com/events/details/rockport-music-presents-cantrip-09-05-2014-1459
END:VEVENT

END:VCALENDAR
