BEGIN:VCALENDAR
VERSION:2.0
PRODID:-//ChamberMaster//Event Calendar 2.0//EN
METHOD:PUBLISH
X-PUBLISHED-TTL:P3D
REFRESH-INTERVAL:P3D
CALSCALE:GREGORIAN
BEGIN:VEVENT
DTSTART:20211015T000000Z
DTEND:20211015T020000Z
X-MICROSOFT-CDO-ALLDAYEVENT:FALSE
SUMMARY:Rockport Music Presents Balla Kouyaté and Mike Block Band
DESCRIPTION:In a delightful fusion of West African traditional music with bluegrass\, funk and rock\, Malian artist Balla Kouyat  joins up with boundary-defying cellist Mike Block for an evening of effervescent\, joyous world music. Kouyat \, a balafon player and singer coming out of the Djeli tradition of Mali\, was awarded a National Heritage Fellowship from the NEA. Mike Block is a Grammy-award-winning American cellist/singer/composer.
X-ALT-DESC;FMTTYPE=text/html:In a delightful fusion of West African traditional music with bluegrass\, funk and rock\, Malian artist Balla Kouyat&eacute\; joins up with boundary-defying cellist Mike Block for an evening of effervescent\, joyous world music. Kouyat&eacute\;\, a balafon player and singer coming out of the Djeli tradition of Mali\, was awarded a National Heritage Fellowship from the NEA. Mike Block is a Grammy-award-winning American cellist/singer/composer.
LOCATION:
UID:e.2981.21220
SEQUENCE:3
DTSTAMP:20260424T111334Z
URL:https://business.capeannchamber.com/events/details/rockport-music-presents-balla-kouyat&#233;-and-mike-block-band-21220
END:VEVENT

END:VCALENDAR
