BEGIN:VCALENDAR
VERSION:2.0
PRODID:-//ChamberMaster//Event Calendar 2.0//EN
METHOD:PUBLISH
X-PUBLISHED-TTL:P3D
REFRESH-INTERVAL:P3D
CALSCALE:GREGORIAN
BEGIN:VEVENT
DTSTART:20211023T000000Z
DTEND:20211023T020000Z
X-MICROSOFT-CDO-ALLDAYEVENT:FALSE
SUMMARY:Rockport Music Presents Adam Ezra Group at Shalin Liu
DESCRIPTION:The Boston-based roots rock veterans\, whose energetic\, passionate live shows have forced comparisons to juggernauts like the Dave Matthews Band and O.A.R.\, comes to Rockport! Over the pandemic Ezra and his mates have kept busy\, performing nightly shows for thousands of their fans in a virtual series that was eventually dubbed The Gathering. After over a year of virtual concerts they return in the flesh this fall!
X-ALT-DESC;FMTTYPE=text/html:The Boston-based roots rock veterans\, whose energetic\, passionate live shows have forced comparisons to juggernauts like the Dave Matthews Band and O.A.R.\, comes to Rockport! Over the pandemic Ezra and his mates have kept busy\, performing nightly shows for thousands of their fans in a virtual series that was eventually dubbed The Gathering. After over a year of virtual concerts they return in the flesh this fall!
LOCATION:
UID:e.2981.21222
SEQUENCE:3
DTSTAMP:20260424T110931Z
URL:https://business.capeannchamber.com/events/details/rockport-music-presents-adam-ezra-group-at-shalin-liu-21222
END:VEVENT

END:VCALENDAR
