BEGIN:VCALENDAR
VERSION:2.0
PRODID:-//ChamberMaster//Event Calendar 2.0//EN
METHOD:PUBLISH
X-PUBLISHED-TTL:P3D
REFRESH-INTERVAL:P3D
CALSCALE:GREGORIAN
BEGIN:VEVENT
DTSTART:20221218T213000Z
DTEND:20221218T223000Z
X-MICROSOFT-CDO-ALLDAYEVENT:FALSE
SUMMARY:Rockport Menorah Lighting
DESCRIPTION:Rockport Menorah Lighting\n\n \n\n\n\n\n\n\n\n\n\n\n\n\nThe Public Menorah celebrates Jewish tradition\, culture\, and pride. Celebrate with us\, as we light the giant menorah and celebrate Chanukah with friends\, family\, and community leaders.\n\nEnjoy festive music\, jelly donuts\, latkes\, chocolate gelt\, and great Chanukah spirit!
X-ALT-DESC;FMTTYPE=text/html:&nbsp\;\n<div class="master-content-wrapper " style="box-sizing: inherit\; color: rgb(0\, 0\, 0)\; font-family: Arial\; font-size: 14px\;">\n<header class="article-header cf " style="box-sizing: inherit\; margin-bottom: 20px\; text-align: center\;">\n<h1 class="article-header__title js-article-title js-page-title" style="box-sizing: inherit\; margin: 0px\; left: 0px\; position: relative\; top: 0px\; z-index: 1\; font-weight: 700\; color: rgb(16\, 86\, 137)\; font-family: Montserrat\, sans-serif\; font-size: 30px\;">Rockport Menorah Lighting</h1>\n\n<div style="box-sizing: inherit\;">&nbsp\;</div>\n</header>\n</div>\n\n<div class="body_wrapper clearfix co_body" style="box-sizing: inherit\; color: rgb(0\, 0\, 0)\; font-family: Arial\; font-size: 14px\;">\n<div id="co_body_container" style="box-sizing: inherit\;">\n<div id="ContentBody" style="box-sizing: inherit\;">\n<div class="content-area-parent  no_margin" style="box-sizing: inherit\;">\n<div id="cco_body" style="box-sizing: inherit\;">\n<div class="content  no_margin no_overflow" id="co_content_container" style="box-sizing: inherit\; overflow: hidden\;">\n<article class="content js-content" itemscope="" itemtype="http://schema.org/Article" style="box-sizing: inherit\;">\n<div itemprop="articleBody" style="box-sizing: inherit\;"><co:body style="box-sizing: inherit\;" xmlns:co="www1.chabadonline.com/alpha1" xmlns:msxsl="urn:schemas-microsoft-com:xslt" xmlns:user="urn:my-scripts">\n<div class="co_body article-body cf" style="box-sizing: inherit\;">\n<p style="box-sizing: inherit\; font-size: 1.4rem\; line-height: 25.2px\; margin: 0px 0px 1em\; text-align: center\;">The Public Menorah celebrates Jewish tradition\, culture\, and pride. Celebrate with us\, as we light the giant menorah and celebrate Chanukah with friends\, family\, and community leaders.</p>\n\n<p style="box-sizing: inherit\; font-size: 1.4rem\; line-height: 25.2px\; margin: 0px 0px 1em\; text-align: center\;">Enjoy festive music\, jelly donuts\, latkes\, chocolate gelt\, and great Chanukah spirit!</p>\n\n<p style="box-sizing: inherit\; font-size: 1.4rem\; line-height: 25.2px\; margin: 0px 0px 1em\; text-align: center\;">&nbsp\;<br style="box-sizing: inherit\;" />\n&nbsp\;</p>\n</div>\n</co:body></div>\n</article>\n</div>\n</div>\n</div>\n</div>\n</div>\n</div>\n
LOCATION:Barletta Park (Corner of Broadway and Mt. Pleasant) Rockport\, MA 01966
UID:e.2981.24565
SEQUENCE:3
DTSTAMP:20260424T123148Z
URL:https://business.capeannchamber.com/events/details/rockport-menorah-lighting-24565
END:VEVENT

END:VCALENDAR
