BEGIN:VCALENDAR
VERSION:2.0
PRODID:-//ChamberMaster//Event Calendar 2.0//EN
METHOD:PUBLISH
X-PUBLISHED-TTL:P3D
REFRESH-INTERVAL:P3D
CALSCALE:GREGORIAN
BEGIN:VEVENT
DTSTART:20231216T190000Z
DTEND:20231216T220000Z
X-MICROSOFT-CDO-ALLDAYEVENT:FALSE
SUMMARY:Rockport Legion Band's Annual Holiday Concert
DESCRIPTION:Enjoy some holiday classics at the Rockport Legion Band's Annual Holiday Concert!
X-ALT-DESC;FMTTYPE=text/html:Enjoy some holiday classics at the Rockport Legion Band&#39\;s Annual Holiday Concert!
LOCATION:First Congregational Church of Rockport 12 School Street Rockport\, MA 01966
UID:e.2981.26649
SEQUENCE:3
DTSTAMP:20260421T215133Z
URL:https://business.capeannchamber.com/events/details/rockport-legion-band-s-annual-holiday-concert-26649
END:VEVENT

END:VCALENDAR
