BEGIN:VCALENDAR
VERSION:2.0
PRODID:-//ChamberMaster//Event Calendar 2.0//EN
METHOD:PUBLISH
X-PUBLISHED-TTL:P3D
REFRESH-INTERVAL:P3D
CALSCALE:GREGORIAN
BEGIN:VEVENT
DTSTART:20250817T230000Z
DTEND:20250818T000000Z
X-MICROSOFT-CDO-ALLDAYEVENT:FALSE
SUMMARY:Rockport Legion Band Presents: "Bagpipes"
DESCRIPTION:Rockport Legion Band\n\n2025 Summer Concert Series\n\nCape Ann's Community Concert Band since 1932\n\nConducted by Logan LaRue\n\n \n2025 Summer Concert Series\n\n\nJuly 6 - Patriotic\n\nJuly 13 - Children's Concert: for the Young at Heart\n\nJuly 20 - Let's Dance\n\nJuly 27 - Out of this World\n\nAugust 3 - Where in the World\n\nAugust 10 - Encores\n\nAugust 17 - Bagpipes\n\nAugust 24 - A Tribute to Bob Rick\n\n\n\nAll concerts are free to the public.\n\nPerformed Sunday 7pm (weather permitting) at the American Legion Bandstand\, 32 Beach Street\, Rockport\, MA.
X-ALT-DESC;FMTTYPE=text/html:<strong><a href="https://rockportlegionband.org/">Rockport Legion Band</a></strong><br />\n<strong>2025 Summer Concert Series</strong><br />\nCape Ann&#39\;s Community Concert Band since 1932<br />\nConducted by Logan LaRue<br />\n&nbsp\;\n<div><strong>2025 Summer Concert Series</strong></div>\n\n<div>\n<div>July 6 - Patriotic</div>\n\n<div>July 13 - Children&#39\;s Concert: for the Young at Heart</div>\n\n<div>July 20 - Let&#39\;s Dance</div>\n\n<div>July 27 - Out of this World</div>\n\n<div>August 3 - Where in the World</div>\n\n<div>August 10 - Encores</div>\n\n<div>August 17 - Bagpipes</div>\n\n<div>August 24 - A Tribute to Bob Rick</div>\n</div>\n\n<div>\n<div>All concerts are free to the public.</div>\n\n<div>Performed Sunday 7pm (weather permitting) at the American Legion Bandstand\, 32 Beach Street\, Rockport\, MA.</div>\n</div>\n
LOCATION:Back Beach Bandstand 32 Beach Street Rockport\, MA 01966
UID:e.2981.41367
SEQUENCE:3
DTSTAMP:20260425T011350Z
URL:https://business.capeannchamber.com/events/details/rockport-legion-band-presents-bagpipes-41367
END:VEVENT

END:VCALENDAR
