BEGIN:VCALENDAR
VERSION:2.0
PRODID:-//ChamberMaster//Event Calendar 2.0//EN
METHOD:PUBLISH
X-PUBLISHED-TTL:P3D
REFRESH-INTERVAL:P3D
CALSCALE:GREGORIAN
BEGIN:VEVENT
DTSTART:20250824T230000Z
DTEND:20250825T003000Z
X-MICROSOFT-CDO-ALLDAYEVENT:FALSE
SUMMARY:Rockport Legion Band 2025 Summer Concert Series
DESCRIPTION:Welcome to the Rockport Legion Band 2025 Summer Concert Series\, conducted by Logan LaRue\, at the Bandstand across from Back Beach on Sundays evenings. Bring family\, friends\, lawn chairs and blankets and enjoy a wonderful evening of entertainment. \n\n \n2025 Summer Concert Series\n\n\nJuly 6 - Patriotic\n\nJuly 13 - Children's Concert: for the Young at Heart\n\nJuly 20 - Let's Dance\n\nJuly 27 - Out of this World\n\nAugust 3 - Where in the World\n\nAugust 10 - Encores\n\nAugust 17 - Bagpipes\n\nAugust 24 - A Tribute to Bob Rick\n\n\n\nAll concerts are free to the public.\n\nPerformed Sunday 7pm (weather permitting) at the American Legion Bandstand\, 32 Beach Street\, Rockport\, MA.
X-ALT-DESC;FMTTYPE=text/html:<span style="font-family:arial\;"><span style="font-size:14px\;">Welcome to the Rockport Legion Band 2025 Summer Concert Series\, conducted by Logan LaRue\, at the Bandstand across from Back Beach on Sundays evenings. Bring family\, friends\, lawn chairs and blankets and enjoy a wonderful evening of entertainment.&nbsp\;</span></span><br />\n&nbsp\;\n<div style="box-sizing: border-box\; color: rgb(102\, 102\, 102)\; font-family: Arial\, serif\; font-size: 14px\;"><span style="box-sizing: border-box\; font-weight: bolder\;">2025 Summer Concert Series</span></div>\n\n<div style="box-sizing: border-box\; color: rgb(102\, 102\, 102)\; font-family: Arial\, serif\; font-size: 14px\;">\n<div style="box-sizing: border-box\;">July 6 - Patriotic</div>\n\n<div style="box-sizing: border-box\;">July 13 - Children&#39\;s Concert: for the Young at Heart</div>\n\n<div style="box-sizing: border-box\;">July 20 - Let&#39\;s Dance</div>\n\n<div style="box-sizing: border-box\;">July 27 - Out of this World</div>\n\n<div style="box-sizing: border-box\;">August 3 - Where in the World</div>\n\n<div style="box-sizing: border-box\;">August 10 - Encores</div>\n\n<div style="box-sizing: border-box\;">August 17 - Bagpipes</div>\n\n<div style="box-sizing: border-box\;">August 24 - A Tribute to Bob Rick</div>\n</div>\n\n<div style="box-sizing: border-box\; color: rgb(102\, 102\, 102)\; font-family: Arial\, serif\; font-size: 14px\;">\n<div style="box-sizing: border-box\;">All concerts are free to the public.</div>\n\n<div style="box-sizing: border-box\;">Performed Sunday 7pm (weather permitting) at the American Legion Bandstand\, 32 Beach Street\, Rockport\, MA.</div>\n</div>\n
LOCATION:At the Bandstand\, Back Beach\, Rockport\, MA
UID:e.2981.41354
SEQUENCE:3
DTSTAMP:20260425T011713Z
URL:https://business.capeannchamber.com/events/details/rockport-legion-band-2025-summer-concert-series-08-24-2025-41354
END:VEVENT

END:VCALENDAR
