BEGIN:VCALENDAR
VERSION:2.0
PRODID:-//ChamberMaster//Event Calendar 2.0//EN
METHOD:PUBLISH
X-PUBLISHED-TTL:P3D
REFRESH-INTERVAL:P3D
CALSCALE:GREGORIAN
BEGIN:VEVENT
DTSTART;VALUE=DATE:20241220
DTEND;VALUE=DATE:20241223
TRANSP:TRANSPARENT
X-MICROSOFT-CDO-ALLDAYEVENT:TRUE
SUMMARY:Rockport Last Minute Stocking Stuffer Weekend 2024
DESCRIPTION:Shop for unique small gifts at participating Rockport businesses!
X-ALT-DESC;FMTTYPE=text/html:Shop for unique small gifts at participating Rockport businesses!
LOCATION:
UID:e.2981.33211
SEQUENCE:3
DTSTAMP:20260424T141012Z
URL:https://business.capeannchamber.com/events/details/rockport-last-minute-stocking-stuffer-weekend-2024-33211
END:VEVENT

END:VCALENDAR
