BEGIN:VCALENDAR
VERSION:2.0
PRODID:-//ChamberMaster//Event Calendar 2.0//EN
METHOD:PUBLISH
X-PUBLISHED-TTL:P3D
REFRESH-INTERVAL:P3D
CALSCALE:GREGORIAN
BEGIN:VEVENT
DTSTART:20250704T220000Z
DTEND:20250705T020000Z
X-MICROSOFT-CDO-ALLDAYEVENT:FALSE
SUMMARY:Rockport Independence Day Celebrations
DESCRIPTION:Rockport\, Massachusetts\, is known for its spirited Independence Day celebrations\, and this Fourth of July will be no exception. The day is packed with exciting events\, including the Firemen's Parade\, a Legion Band concert\, and Rockport's unique grand finale - a spectacular bonfire at Back Beach.\n\nEvent Schedule\n\n\n	Rockport Firemen's Parade: 6 pm\n	Legion Band Concert: Approximately 8 pm\n	Bonfire Lighting: Around 9 pm\n\n\nParade Route\n\nThe parade kicks off at 6 pm\, starting from the school complex on Jerden's Lane. The route continues down South Street to Dock Square\, proceeds up Main Street to Beach Street\, and concludes at the American Legion bandstand near Back Beach.\n\nBonfire\n\nFollowing the parade\, enjoy the Legion Band concert at around 8 pm. As dusk falls\, typically around 9 pm\, the traditional bonfire made from stacked wooden pallets will be ignited at Back Beach\, providing a thrilling end to the festivities.\n\nJoin us for a day filled with celebration\, music\, and community spirit\, organized by the Rockport Firemen's Association.
X-ALT-DESC;FMTTYPE=text/html:<p style="margin: 0px 0px 10px\; color: rgb(89\, 84\, 65)\; font-family: Verdana\, Arial\, Helvetica\, &quot\;Bitstream Vera Sans&quot\;\, sans-serif\; font-size: 14px\;">Rockport\, Massachusetts\, is known for its spirited Independence Day celebrations\, and this Fourth of July will be no exception. The day is packed with exciting events\, including the Firemen&#39\;s Parade\, a Legion Band concert\, and Rockport&#39\;s unique grand finale - a spectacular bonfire at Back Beach.</p>\n\n<h3 style="font-family: &quot\;Myriad Pro&quot\;\, &quot\;Segoe UI&quot\;\, Helvetica\, Arial\, sans-serif\; font-size: 18px\; line-height: 24px\; margin-top: 6px\; margin-bottom: 6px\; color: rgb(89\, 84\, 65)\;">Event Schedule</h3>\n\n<ul style="margin: 0px 0px 10px\; padding-right: 0px\; padding-left: 30px\; color: rgb(89\, 84\, 65)\; font-family: Verdana\, Arial\, Helvetica\, &quot\;Bitstream Vera Sans&quot\;\, sans-serif\; font-size: 14px\;">\n	<li><strong style="font-weight: bold\;">Rockport Firemen&#39\;s Parade:</strong>&nbsp\;6 pm</li>\n	<li><strong style="font-weight: bold\;">Legion Band Concert:</strong>&nbsp\;Approximately 8 pm</li>\n	<li><strong style="font-weight: bold\;">Bonfire Lighting:</strong>&nbsp\;Around 9 pm</li>\n</ul>\n\n<h3 style="font-family: &quot\;Myriad Pro&quot\;\, &quot\;Segoe UI&quot\;\, Helvetica\, Arial\, sans-serif\; font-size: 18px\; line-height: 24px\; margin-top: 6px\; margin-bottom: 6px\; color: rgb(89\, 84\, 65)\;">Parade Route</h3>\n\n<p style="margin: 0px 0px 10px\; color: rgb(89\, 84\, 65)\; font-family: Verdana\, Arial\, Helvetica\, &quot\;Bitstream Vera Sans&quot\;\, sans-serif\; font-size: 14px\;">The parade kicks off at 6 pm\, starting from the school complex on Jerden&#39\;s Lane. The route continues down South Street to Dock Square\, proceeds up Main Street to Beach Street\, and concludes at the American Legion bandstand near Back Beach.</p>\n\n<h3 style="font-family: &quot\;Myriad Pro&quot\;\, &quot\;Segoe UI&quot\;\, Helvetica\, Arial\, sans-serif\; font-size: 18px\; line-height: 24px\; margin-top: 6px\; margin-bottom: 6px\; color: rgb(89\, 84\, 65)\;">Bonfire</h3>\n\n<p style="margin: 0px 0px 10px\; color: rgb(89\, 84\, 65)\; font-family: Verdana\, Arial\, Helvetica\, &quot\;Bitstream Vera Sans&quot\;\, sans-serif\; font-size: 14px\;">Following the parade\, enjoy the Legion Band concert at around 8 pm. As dusk falls\, typically around 9 pm\, the traditional bonfire made from stacked wooden pallets will be ignited at Back Beach\, providing a thrilling end to the festivities.</p>\n\n<p style="margin: 0px 0px 10px\; color: rgb(89\, 84\, 65)\; font-family: Verdana\, Arial\, Helvetica\, &quot\;Bitstream Vera Sans&quot\;\, sans-serif\; font-size: 14px\;">Join us for a day filled with celebration\, music\, and community spirit\, organized by the Rockport Firemen&#39\;s Association.</p>\n
LOCATION:
UID:e.2981.36815
SEQUENCE:3
DTSTAMP:20260424T223256Z
URL:https://business.capeannchamber.com/events/details/rockport-independence-day-celebrations-07-04-2025-36815
END:VEVENT

END:VCALENDAR
