BEGIN:VCALENDAR
VERSION:2.0
PRODID:-//ChamberMaster//Event Calendar 2.0//EN
METHOD:PUBLISH
X-PUBLISHED-TTL:P3D
REFRESH-INTERVAL:P3D
CALSCALE:GREGORIAN
BEGIN:VEVENT
DTSTART:20241206T160000Z
DTEND:20241207T010000Z
X-MICROSOFT-CDO-ALLDAYEVENT:FALSE
SUMMARY:Rockport Holiday Shopping Event & Mistletoe Madness
DESCRIPTION:Visit bit.ly/MistletoeMadnessRockport to see the interactive map of participants.\n\n\n\nJoin in on Rockport's Holiday Shopping Event featuring DOUBLE Mistletoe Madness POINTS!\n\n\n\nVisit participating Rockport Retailers\, Restaurants\, Recreation spots or Accommodations between November 22 through December 31 to earn one sticker for every $10 spent throughout the Holiday season. Double Points given on Holiday Shopping Event\, All Day Friday December 6! \n\n	All Stamped cards are entered into multiple prize drawings on 12/6\, 12/13\, 12/20 & 1/3\, *you do not need to be present to win\, all drawings will be live streamed on https://www.facebook.com/rockportusa\n	Turn in filled cards (for every $100 spent) at any participating business\n	The Chamber will collect filled cards from businesses prior to the drawings each week\n	No limit to the number of cards submitted (More spending = more chances to win!)\n\n AMAZING local prizes offered throughout the Holiday Season!\n\n\n\nPlease visit the following Mistletoe Madness participants ANYTIME between November 22nd- December 31st to make purchases and pick up new cards!\n\n\n\nParticipating Retailers        Participating Inns           Participating Theatre     Participating Restaurants\n\nAlexanders Pottery                Addison Choate Inn         Rockport Art Association    Delisi's Red Skiff \n\nArt by Ann Lang Mung Co     Eagle House                     Rockport Music                  Little Sister\n\nArt Nook Gallery                    The Rockport House        Rockport Music                  Fleur Cuisine \n\nApothecary Suil Crow               \n\nCarol Lee's Cottage                                                                  \n\nCedar Chest                          \n\nCoastal Locals\n\nDenim Blanket Co\n\nDream House Gallery & Boutique\n\nFloating Lotus\n\nGallery Number One\n\nHappy Whale\n\nJames Russell Goldsmiths\n\nJoe's Fresh Fish Prints\n\nJohn Tarr Store\n\nLula's Pantry\n\nOnce Ocean One Love\n\nPaper Mermaid\n\nPewter Shop\n\nRockport Candle Co\n\nRusty & Ingrid Screen Prints\n\nSand Castles\n\nSandy Bay Provisions\n\nScott Tubby Fine Art\n\nShell RKPT\n\nSquare Circle\n\nSusie's Stories\n\nThe Glass House\n\nTuck's Candy & Gifts\n\nTuck's Candy Factory\n\nWharf Rat\n\nWhite Seagull Gallery\n\nWicked Peacock
X-ALT-DESC;FMTTYPE=text/html:<span style="font-size:18px\;"><span style="font-family:arial\;"><span style="font-size:16px\;">Visit&nbsp\;<a href="https://bit.ly/MistletoeMadnessRockport">bit.ly/MistletoeMadnessRockport</a> to see the interactive map of participants.</span></span></span><br />\n<br />\n<span style="font-size:20px\;"><span style="color:#B22222\;">Join in on Rockport&#39\;s Holiday Shopping Event featuring DOUBLE Mistletoe Madness POINTS!</span></span><br />\n<br />\nVisit participating Rockport Retailers\, Restaurants\, Recreation spots or Accommodations between November 22 through December 31 to earn one sticker for every $10 spent throughout the Holiday season. <span style="color:#FF0000\;">Double Points given on Holiday Shopping Event\, <em>All Day</em> Friday December 6!</span>&nbsp\;\n<ul>\n	<li>All Stamped cards are entered into multiple prize drawings on 12/6\, 12/13\, 12/20&nbsp\;&amp\; 1/3\, *you do not need to be present to win\, all drawings will be live streamed on&nbsp\;<a href="https://www.facebook.com/rockportusa">https://www.facebook.com/rockportusa</a></li>\n	<li>Turn in filled cards (for every $100 spent) at any participating business</li>\n	<li>The Chamber will collect filled cards from businesses prior to the drawings each week</li>\n	<li>No limit to the number of cards submitted (More spending = more chances to win!)</li>\n</ul>\n&nbsp\;AMAZING local prizes offered throughout the Holiday Season!<br />\n<br />\n<strong>Please visit the following Mistletoe Madness participants ANYTIME between November 22nd- December 31st to make purchases and pick up new cards!<br />\n<br />\nParticipating Retailers</strong>&nbsp\;&nbsp\;&nbsp\;&nbsp\;&nbsp\;&nbsp\;&nbsp\;&nbsp\;<strong>Participating Inns</strong>&nbsp\;&nbsp\;&nbsp\;&nbsp\;&nbsp\;&nbsp\;&nbsp\;&nbsp\;&nbsp\; <strong>&nbsp\;Participating Theatre&nbsp\;</strong> &nbsp\; &nbsp\;<strong>Participating Restaurants</strong><br />\nAlexanders Pottery&nbsp\;&nbsp\;&nbsp\;&nbsp\;&nbsp\;&nbsp\;&nbsp\;&nbsp\;&nbsp\;&nbsp\;&nbsp\;&nbsp\;&nbsp\;&nbsp\;&nbsp\;&nbsp\;Addison Choate Inn&nbsp\;&nbsp\;&nbsp\;&nbsp\;&nbsp\; &nbsp\; &nbsp\;Rockport Art Association&nbsp\; &nbsp\; Delisi&#39\;s Red Skiff&nbsp\;<br />\nArt by Ann Lang Mung Co&nbsp\;&nbsp\;&nbsp\;&nbsp\;&nbsp\;Eagle House&nbsp\;&nbsp\;&nbsp\;&nbsp\;&nbsp\;&nbsp\;&nbsp\;&nbsp\;&nbsp\;&nbsp\;&nbsp\;&nbsp\;&nbsp\;&nbsp\;&nbsp\;&nbsp\;&nbsp\; &nbsp\;&nbsp\;&nbsp\;Rockport Music&nbsp\;&nbsp\;&nbsp\;&nbsp\;&nbsp\;&nbsp\;&nbsp\;&nbsp\;&nbsp\;&nbsp\;&nbsp\;&nbsp\;&nbsp\;&nbsp\;&nbsp\;&nbsp\;&nbsp\; Little Sister<br />\nArt Nook Gallery&nbsp\;&nbsp\;&nbsp\;&nbsp\;&nbsp\;&nbsp\;&nbsp\;&nbsp\;&nbsp\;&nbsp\;&nbsp\;&nbsp\;&nbsp\;&nbsp\;&nbsp\;&nbsp\;&nbsp\; &nbsp\; The Rockport House&nbsp\; &nbsp\; &nbsp\; &nbsp\; Rockport Music&nbsp\; &nbsp\; &nbsp\; &nbsp\; &nbsp\; &nbsp\; &nbsp\; &nbsp\; &nbsp\; Fleur Cuisine&nbsp\;<br />\nApothecary Suil Crow&nbsp\; &nbsp\; &nbsp\; &nbsp\; &nbsp\; &nbsp\; &nbsp\; &nbsp\;<br />\nCarol Lee&#39\;s Cottage&nbsp\; &nbsp\; &nbsp\; &nbsp\; &nbsp\; &nbsp\; &nbsp\; &nbsp\; &nbsp\; &nbsp\; &nbsp\; &nbsp\; &nbsp\; &nbsp\; &nbsp\; &nbsp\; &nbsp\; &nbsp\; &nbsp\; &nbsp\; &nbsp\; &nbsp\; &nbsp\; &nbsp\; &nbsp\; &nbsp\; &nbsp\; &nbsp\; &nbsp\; &nbsp\; &nbsp\; &nbsp\; &nbsp\;&nbsp\;<br />\nCedar Chest&nbsp\; &nbsp\; &nbsp\; &nbsp\; &nbsp\; &nbsp\; &nbsp\; &nbsp\; &nbsp\; &nbsp\; &nbsp\; &nbsp\; &nbsp\;&nbsp\;<br />\nCoastal Locals<br />\nDenim Blanket Co<br />\nDream House Gallery &amp\; Boutique<br />\nFloating Lotus<br />\nGallery Number One<br />\nHappy Whale<br />\nJames Russell Goldsmiths<br />\nJoe&#39\;s Fresh Fish Prints<br />\nJohn Tarr Store<br />\nLula&#39\;s Pantry<br />\nOnce Ocean One Love<br />\nPaper Mermaid<br />\nPewter Shop<br />\nRockport Candle Co<br />\nRusty &amp\; Ingrid Screen Prints<br />\nSand Castles<br />\nSandy Bay Provisions<br />\nScott Tubby Fine Art<br />\nShell RKPT<br />\nSquare Circle<br />\nSusie&#39\;s Stories<br />\nThe Glass House<br />\nTuck&#39\;s Candy &amp\; Gifts<br />\nTuck&#39\;s Candy Factory<br />\nWharf Rat<br />\nWhite Seagull Gallery<br />\nWicked Peacock<br />\n<br />\n&nbsp\;\n<div class="brz-columns brz-css-idMok brz-css-uUbkg" data-brz-custom-id="sdjKZ8mqUpP0" style="box-sizing: border-box\; --tw-border-spacing-x: 0\; --tw-border-spacing-y: 0\; --tw-translate-x: 0\; --tw-translate-y: 0\; --tw-rotate: 0\; --tw-skew-x: 0\; --tw-skew-y: 0\; --tw-scale-x: 1\; --tw-scale-y: 1\; --tw-scroll-snap-strictness: proximity\; --tw-ring-offset-width: 0px\; --tw-ring-offset-color: #fff\; --tw-ring-color: rgb(59 130 246 / 0.5)\; --tw-ring-offset-shadow: 0 0 #0000\; --tw-ring-shadow: 0 0 #0000\; --tw-shadow: 0 0 #0000\; --tw-shadow-colored: 0 0 #0000\; display: flex\; position: relative\; -webkit-box-orient: vertical\; -webkit-box-direction: normal\; flex-direction: column\; min-height: 1px\; flex: 1 1 25%\; will-change: flex\, max-width\; z-index: auto\; max-width: 25%\; justify-content: flex-start\;">\n<div class="brz-column__items brz-css-wmqyf" style="box-sizing: border-box\; --tw-border-spacing-x: 0\; --tw-border-spacing-y: 0\; --tw-translate-x: 0\; --tw-translate-y: 0\; --tw-rotate: 0\; --tw-skew-x: 0\; --tw-skew-y: 0\; --tw-scale-x: 1\; --tw-scale-y: 1\; --tw-scroll-snap-strictness: proximity\; --tw-ring-offset-width: 0px\; --tw-ring-offset-color: #fff\; --tw-ring-color: rgb(59 130 246 / 0.5)\; --tw-ring-offset-shadow: 0 0 #0000\; --tw-ring-shadow: 0 0 #0000\; --tw-shadow: 0 0 #0000\; --tw-shadow-colored: 0 0 #0000\; z-index: auto\; margin: 0px\; border: 0px solid transparent\; padding: 5px 15px\; min-height: 100%\; display: flex\; transition-duration: 0.5s\; transition-property: filter\, box-shadow\, background\, border-radius\, border-color\; -webkit-box-orient: vertical\; -webkit-box-direction: normal\; flex-direction: column\; -webkit-box-pack: inherit\; justify-content: inherit\; -webkit-box-flex: 0\; flex: 0 1 auto\;">\n<div class="brz-css-aNvEj brz-wrapper" id="" style="box-sizing: border-box\; --tw-border-spacing-x: 0\; --tw-border-spacing-y: 0\; --tw-translate-x: 0\; --tw-translate-y: 0\; --tw-rotate: 0\; --tw-skew-x: 0\; --tw-skew-y: 0\; --tw-scale-x: 1\; --tw-scale-y: 1\; --tw-scroll-snap-strictness: proximity\; --tw-ring-offset-width: 0px\; --tw-ring-offset-color: #fff\; --tw-ring-color: rgb(59 130 246 / 0.5)\; --tw-ring-offset-shadow: 0 0 #0000\; --tw-ring-shadow: 0 0 #0000\; --tw-shadow: 0 0 #0000\; --tw-shadow-colored: 0 0 #0000\; flex-wrap: wrap\; min-width: 0px\; min-height: 1px\; padding: 0px\; margin: 10px 0px\; justify-content: center\; position: relative\; display: flex\; z-index: auto\; -webkit-box-flex: 0\; flex: 0 1 auto\;">\n<div class="brz-rich-text brz-rich-text__custom brz-css-jaC0_" data-brz-custom-id="f07_rw2qyJyB" style="box-sizing: border-box\; --tw-border-spacing-x: 0\; --tw-border-spacing-y: 0\; --tw-translate-x: 0\; --tw-translate-y: 0\; --tw-rotate: 0\; --tw-skew-x: 0\; --tw-skew-y: 0\; --tw-scale-x: 1\; --tw-scale-y: 1\; --tw-scroll-snap-strictness: proximity\; --tw-ring-offset-width: 0px\; --tw-ring-offset-color: #fff\; --tw-ring-color: rgb(59 130 246 / 0.5)\; --tw-ring-offset-shadow: 0 0 #0000\; --tw-ring-shadow: 0 0 #0000\; --tw-shadow: 0 0 #0000\; --tw-shadow-colored: 0 0 #0000\; -webkit-font-smoothing: antialiased\; -webkit-box-flex: 1\; flex: 1 1 auto\; min-width: 0px\; overflow-wrap: break-word\; word-break: break-word\; width: 262.5px\; mix-blend-mode: normal\;">\n<div data-brz-translate-text="1" style="box-sizing: border-box\; --tw-border-spacing-x: 0\; --tw-border-spacing-y: 0\; --tw-translate-x: 0\; --tw-translate-y: 0\; --tw-rotate: 0\; --tw-skew-x: 0\; --tw-skew-y: 0\; --tw-scale-x: 1\; --tw-scale-y: 1\; --tw-scroll-snap-strictness: proximity\; --tw-ring-offset-width: 0px\; --tw-ring-offset-color: #fff\; --tw-ring-color: rgb(59 130 246 / 0.5)\; --tw-ring-offset-shadow: 0 0 #0000\; --tw-ring-shadow: 0 0 #0000\; --tw-shadow: 0 0 #0000\; --tw-shadow-colored: 0 0 #0000\; white-space-collapse: preserve\;">\n<p class="brz-tp-lg-paragraph brz-text-lg-center brz-css-iYlMu" data-generated-css="brz-css-xiAln" data-uniq-id="buBcD" style="box-sizing: border-box\; --tw-border-spacing-x: 0\; --tw-border-spacing-y: 0\; --tw-translate-x: 0\; --tw-translate-y: 0\; --tw-rotate: 0\; --tw-skew-x: 0\; --tw-skew-y: 0\; --tw-scale-x: 1\; --tw-scale-y: 1\; --tw-scroll-snap-strictness: proximity\; --tw-ring-offset-width: 0px\; --tw-ring-offset-color: #fff\; --tw-ring-color: rgb(59 130 246 / 0.5)\; --tw-ring-offset-shadow: 0 0 #0000\; --tw-ring-shadow: 0 0 #0000\; --tw-shadow: 0 0 #0000\; --tw-shadow-colored: 0 0 #0000\; margin: 0px\; font-size: var(--brz-paragraphfontsize\, initial)\; line-height: var(--brz-paragraphlineheight\, initial)\; letter-spacing: var(--brz-paragraphletterspacing\, initial)\; font-variation-settings: var(--brz-paragraphfontvariation\, initial)\; font-style: var(--brz-paragraphitalic\, initial)\; text-decoration-line: initial\; text-transform: initial\; padding-top: 0px\; padding-bottom: 0px\; text-align: center !important\; font-family: var(--brz-paragraphfontfamily\, initial) !important\;">&nbsp\;</p>\n</div>\n</div>\n</div>\n</div>\n</div>\n\n<div class="brz-columns brz-css-idMok brz-css-qRX4E" data-brz-custom-id="vbzrTREoZbyg" style="box-sizing: border-box\; --tw-border-spacing-x: 0\; --tw-border-spacing-y: 0\; --tw-translate-x: 0\; --tw-translate-y: 0\; --tw-rotate: 0\; --tw-skew-x: 0\; --tw-skew-y: 0\; --tw-scale-x: 1\; --tw-scale-y: 1\; --tw-scroll-snap-strictness: proximity\; --tw-ring-offset-width: 0px\; --tw-ring-offset-color: #fff\; --tw-ring-color: rgb(59 130 246 / 0.5)\; --tw-ring-offset-shadow: 0 0 #0000\; --tw-ring-shadow: 0 0 #0000\; --tw-shadow: 0 0 #0000\; --tw-shadow-colored: 0 0 #0000\; display: flex\; position: relative\; -webkit-box-orient: vertical\; -webkit-box-direction: normal\; flex-direction: column\; min-height: 1px\; flex: 1 1 25%\; will-change: flex\, max-width\; z-index: auto\; max-width: 25%\; justify-content: flex-start\;">\n<div class="brz-column__items brz-css-wmqyf" style="box-sizing: border-box\; --tw-border-spacing-x: 0\; --tw-border-spacing-y: 0\; --tw-translate-x: 0\; --tw-translate-y: 0\; --tw-rotate: 0\; --tw-skew-x: 0\; --tw-skew-y: 0\; --tw-scale-x: 1\; --tw-scale-y: 1\; --tw-scroll-snap-strictness: proximity\; --tw-ring-offset-width: 0px\; --tw-ring-offset-color: #fff\; --tw-ring-color: rgb(59 130 246 / 0.5)\; --tw-ring-offset-shadow: 0 0 #0000\; --tw-ring-shadow: 0 0 #0000\; --tw-shadow: 0 0 #0000\; --tw-shadow-colored: 0 0 #0000\; z-index: auto\; margin: 0px\; border: 0px solid transparent\; padding: 5px 15px\; min-height: 100%\; display: flex\; transition-duration: 0.5s\; transition-property: filter\, box-shadow\, background\, border-radius\, border-color\; -webkit-box-orient: vertical\; -webkit-box-direction: normal\; flex-direction: column\; -webkit-box-pack: inherit\; justify-content: inherit\; -webkit-box-flex: 0\; flex: 0 1 auto\;">\n<div class="brz-css-aNvEj brz-wrapper" id="" style="box-sizing: border-box\; --tw-border-spacing-x: 0\; --tw-border-spacing-y: 0\; --tw-translate-x: 0\; --tw-translate-y: 0\; --tw-rotate: 0\; --tw-skew-x: 0\; --tw-skew-y: 0\; --tw-scale-x: 1\; --tw-scale-y: 1\; --tw-scroll-snap-strictness: proximity\; --tw-ring-offset-width: 0px\; --tw-ring-offset-color: #fff\; --tw-ring-color: rgb(59 130 246 / 0.5)\; --tw-ring-offset-shadow: 0 0 #0000\; --tw-ring-shadow: 0 0 #0000\; --tw-shadow: 0 0 #0000\; --tw-shadow-colored: 0 0 #0000\; flex-wrap: wrap\; min-width: 0px\; min-height: 1px\; padding: 0px\; margin: 10px 0px\; justify-content: center\; position: relative\; display: flex\; z-index: auto\; -webkit-box-flex: 0\; flex: 0 1 auto\;">\n<div class="brz-image brz-css-bGwv2" data-brz-custom-id="kiSsxfDt3iq2" style="box-sizing: border-box\; --tw-border-spacing-x: 0\; --tw-border-spacing-y: 0\; --tw-translate-x: 0\; --tw-translate-y: 0\; --tw-rotate: 0\; --tw-skew-x: 0\; --tw-skew-y: 0\; --tw-scale-x: 1\; --tw-scale-y: 1\; --tw-scroll-snap-strictness: proximity\; --tw-ring-offset-width: 0px\; --tw-ring-offset-color: #fff\; --tw-ring-color: rgb(59 130 246 / 0.5)\; --tw-ring-offset-shadow: 0 0 #0000\; --tw-ring-shadow: 0 0 #0000\; --tw-shadow: 0 0 #0000\; --tw-shadow-colored: 0 0 #0000\; position: relative\; display: inherit\; -webkit-box-pack: inherit\; justify-content: inherit\; -webkit-box-align: inherit\; align-items: inherit\; flex-basis: 100%\; width: 207.375px\; overflow: hidden\; height: auto\; box-shadow: none\; border: 0px solid rgba(102\, 115\, 141\, 0)\; border-radius: 0px\; transition-duration: 0.5s\; transition-property: filter\, box-shadow\, background\, border-radius\, border-color\; max-width: 79%\;"><picture class="brz-picture brz-d-block brz-p-relative brz-css-jBnYe brz-css-kUnnV" style="box-sizing: border-box\; --tw-border-spacing-x: 0\; --tw-border-spacing-y: 0\; --tw-translate-x: 0\; --tw-translate-y: 0\; --tw-rotate: 0\; --tw-skew-x: 0\; --tw-skew-y: 0\; --tw-scale-x: 1\; --tw-scale-y: 1\; --tw-scroll-snap-strictness: proximity\; --tw-ring-offset-width: 0px\; --tw-ring-offset-color: #fff\; --tw-ring-color: rgb(59 130 246 / 0.5)\; --tw-ring-offset-shadow: 0 0 #0000\; --tw-ring-shadow: 0 0 #0000\; --tw-shadow: 0 0 #0000\; --tw-shadow-colored: 0 0 #0000\; display: block !important\; position: relative !important\; padding-top: 0px\; outline: 0px\; filter: none\; mask-image: none\; transition-duration: 0.5s\; transition-property: filter\, box-shadow\, background\, border-radius\, border-color\; width: 207.375px\; height: auto\;"><source media="(min-width: 992px)" srcset="https://capeannchamber.com/wp-content/uploads/2024/11/mistletoe-madness-play.png 1x\, https://capeannchamber.com/wp-content/uploads/2024/11/mistletoe-madness-play.png 2x" style="box-sizing: border-box\; --tw-border-spacing-x: 0\; --tw-border-spacing-y: 0\; --tw-translate-x: 0\; --tw-translate-y: 0\; --tw-rotate: 0\; --tw-skew-x: 0\; --tw-skew-y: 0\; --tw-scale-x: 1\; --tw-scale-y: 1\; --tw-scroll-snap-strictness: proximity\; --tw-ring-offset-width: 0px\; --tw-ring-offset-color: #fff\; --tw-ring-color: rgb(59 130 246 / 0.5)\; --tw-ring-offset-shadow: 0 0 #0000\; --tw-ring-shadow: 0 0 #0000\; --tw-shadow: 0 0 #0000\; --tw-shadow-colored: 0 0 #0000\;" /></picture></div>\n</div>\n\n<div class="brz-css-aNvEj brz-wrapper" id="" style="box-sizing: border-box\; --tw-border-spacing-x: 0\; --tw-border-spacing-y: 0\; --tw-translate-x: 0\; --tw-translate-y: 0\; --tw-rotate: 0\; --tw-skew-x: 0\; --tw-skew-y: 0\; --tw-scale-x: 1\; --tw-scale-y: 1\; --tw-scroll-snap-strictness: proximity\; --tw-ring-offset-width: 0px\; --tw-ring-offset-color: #fff\; --tw-ring-color: rgb(59 130 246 / 0.5)\; --tw-ring-offset-shadow: 0 0 #0000\; --tw-ring-shadow: 0 0 #0000\; --tw-shadow: 0 0 #0000\; --tw-shadow-colored: 0 0 #0000\; flex-wrap: wrap\; min-width: 0px\; min-height: 1px\; padding: 0px\; margin: 10px 0px\; justify-content: center\; position: relative\; display: flex\; z-index: auto\; -webkit-box-flex: 0\; flex: 0 1 auto\;">\n<div class="brz-rich-text brz-rich-text__custom brz-css-jaC0_" data-brz-custom-id="bfHxtajKioKp" style="box-sizing: border-box\; --tw-border-spacing-x: 0\; --tw-border-spacing-y: 0\; --tw-translate-x: 0\; --tw-translate-y: 0\; --tw-rotate: 0\; --tw-skew-x: 0\; --tw-skew-y: 0\; --tw-scale-x: 1\; --tw-scale-y: 1\; --tw-scroll-snap-strictness: proximity\; --tw-ring-offset-width: 0px\; --tw-ring-offset-color: #fff\; --tw-ring-color: rgb(59 130 246 / 0.5)\; --tw-ring-offset-shadow: 0 0 #0000\; --tw-ring-shadow: 0 0 #0000\; --tw-shadow: 0 0 #0000\; --tw-shadow-colored: 0 0 #0000\; -webkit-font-smoothing: antialiased\; -webkit-box-flex: 1\; flex: 1 1 auto\; min-width: 0px\; overflow-wrap: break-word\; word-break: break-word\; width: 262.5px\; mix-blend-mode: normal\;">\n<div data-brz-translate-text="1" style="box-sizing: border-box\; --tw-border-spacing-x: 0\; --tw-border-spacing-y: 0\; --tw-translate-x: 0\; --tw-translate-y: 0\; --tw-rotate: 0\; --tw-skew-x: 0\; --tw-skew-y: 0\; --tw-scale-x: 1\; --tw-scale-y: 1\; --tw-scroll-snap-strictness: proximity\; --tw-ring-offset-width: 0px\; --tw-ring-offset-color: #fff\; --tw-ring-color: rgb(59 130 246 / 0.5)\; --tw-ring-offset-shadow: 0 0 #0000\; --tw-ring-shadow: 0 0 #0000\; --tw-shadow: 0 0 #0000\; --tw-shadow-colored: 0 0 #0000\; white-space-collapse: preserve\;">\n<p class="brz-tp-lg-paragraph brz-text-lg-center brz-css-onDrW" data-generated-css="brz-css-liOst" data-uniq-id="oPCHX" style="box-sizing: border-box\; --tw-border-spacing-x: 0\; --tw-border-spacing-y: 0\; --tw-translate-x: 0\; --tw-translate-y: 0\; --tw-rotate: 0\; --tw-skew-x: 0\; --tw-skew-y: 0\; --tw-scale-x: 1\; --tw-scale-y: 1\; --tw-scroll-snap-strictness: proximity\; --tw-ring-offset-width: 0px\; --tw-ring-offset-color: #fff\; --tw-ring-color: rgb(59 130 246 / 0.5)\; --tw-ring-offset-shadow: 0 0 #0000\; --tw-ring-shadow: 0 0 #0000\; --tw-shadow: 0 0 #0000\; --tw-shadow-colored: 0 0 #0000\; margin: 0px\; font-size: var(--brz-paragraphfontsize\, initial)\; line-height: var(--brz-paragraphlineheight\, initial)\; letter-spacing: var(--brz-paragraphletterspacing\, initial)\; font-variation-settings: var(--brz-paragraphfontvariation\, initial)\; font-weight: var(--brz-paragraphbold\, initial)\; font-style: var(--brz-paragraphitalic\, initial)\; text-decoration-line: initial\; text-transform: initial\; padding-top: 0px\; padding-bottom: 0px\; text-align: center !important\; font-family: var(--brz-paragraphfontfamily\, initial) !important\;">&nbsp\;</p>\n</div>\n</div>\n</div>\n</div>\n</div>\n
LOCATION:Participating Businesses\, Inns\, Restaurants\, Theaters & Recreation Spots throughout Rockport
UID:e.2981.33197
SEQUENCE:3
DTSTAMP:20260424T123906Z
URL:https://business.capeannchamber.com/events/details/rockport-holiday-shopping-event-mistletoe-madness-33197
END:VEVENT

END:VCALENDAR
