BEGIN:VCALENDAR
VERSION:2.0
PRODID:-//ChamberMaster//Event Calendar 2.0//EN
METHOD:PUBLISH
X-PUBLISHED-TTL:P3D
REFRESH-INTERVAL:P3D
CALSCALE:GREGORIAN
BEGIN:VEVENT
DTSTART:20241204T220000Z
DTEND:20241205T000000Z
X-MICROSOFT-CDO-ALLDAYEVENT:FALSE
SUMMARY:Rockport Holiday Party 2024
DESCRIPTION:Join the Rockport Division of the Cape Ann Chamber of Commerce for the Annual Holiday Party at the Emerson Inn. All businesses (Members & Non-Members) in the Rockport Division are invited to attend. Appetizers and a cash bar will be offered.
X-ALT-DESC;FMTTYPE=text/html:Join the Rockport Division of the Cape Ann Chamber of Commerce for the Annual Holiday Party at the Emerson Inn. All businesses (Members &amp\; Non-Members) in the Rockport Division are invited to attend. Appetizers and a cash bar will be offered.
LOCATION:The Emerson Inn
UID:e.2981.34163
SEQUENCE:3
DTSTAMP:20260424T123748Z
URL:https://business.capeannchamber.com/events/details/rockport-holiday-party-2024-34163
END:VEVENT

END:VCALENDAR
