BEGIN:VCALENDAR
VERSION:2.0
PRODID:-//ChamberMaster//Event Calendar 2.0//EN
METHOD:PUBLISH
X-PUBLISHED-TTL:P3D
REFRESH-INTERVAL:P3D
CALSCALE:GREGORIAN
BEGIN:VEVENT
DTSTART:20241124T160000Z
DTEND:20241124T200000Z
X-MICROSOFT-CDO-ALLDAYEVENT:FALSE
SUMMARY:Rockport Holiday Market
DESCRIPTION:Rockport Holiday Market\n\nLocal Vendors. Live Music. Hot Food
X-ALT-DESC;FMTTYPE=text/html:Rockport Holiday Market<br />\nLocal Vendors. Live Music. Hot Food
LOCATION:Pigeon Cove Circle
UID:e.2981.34144
SEQUENCE:3
DTSTAMP:20260424T123722Z
URL:https://business.capeannchamber.com/events/details/rockport-holiday-market-34144
END:VEVENT

END:VCALENDAR
