BEGIN:VCALENDAR
VERSION:2.0
PRODID:-//ChamberMaster//Event Calendar 2.0//EN
METHOD:PUBLISH
X-PUBLISHED-TTL:P3D
REFRESH-INTERVAL:P3D
CALSCALE:GREGORIAN
BEGIN:VEVENT
DTSTART:20221210T150000Z
DTEND:20221210T210000Z
X-MICROSOFT-CDO-ALLDAYEVENT:FALSE
SUMMARY:Rockport Holiday Market
DESCRIPTION:Join us at Whales Jaw Cafe to reconnect with a few of your favorite market vendors and shop for local gifts. Enjoy food and drinks while listening to live music. \n\n\n\nParticipating Vendors:\n\n  Twin Birch Farm\n\n  Thousand Leaves Farm\n\n  Seaview Farm\n\n  Roving Radish\n\n  Cape Ann Sea Salt\n\n  RHS Upcycling Club\n\n  Bonny Beads\n\n  Rockport Exchange
X-ALT-DESC;FMTTYPE=text/html:Join us at <strong>Whales Jaw Cafe</strong> to reconnect with a few of your favorite market vendors and shop for local gifts. Enjoy food and drinks while listening to live music.&nbsp\;<br />\n<br />\nParticipating Vendors:<br />\n&bull\; Twin Birch Farm<br />\n&bull\; Thousand Leaves Farm<br />\n&bull\; Seaview Farm<br />\n&bull\; Roving Radish<br />\n&bull\; Cape Ann Sea Salt<br />\n&bull\; RHS Upcycling Club<br />\n&bull\; Bonny Beads<br />\n&bull\; Rockport Exchange
LOCATION:Whales Jaw Cafe at Whistle Stop Mall Rockport\, MA
UID:e.2981.23292
SEQUENCE:3
DTSTAMP:20260424T105237Z
URL:https://business.capeannchamber.com/events/details/rockport-holiday-market-23292
END:VEVENT

END:VCALENDAR
