BEGIN:VCALENDAR
VERSION:2.0
PRODID:-//ChamberMaster//Event Calendar 2.0//EN
METHOD:PUBLISH
X-PUBLISHED-TTL:P3D
REFRESH-INTERVAL:P3D
CALSCALE:GREGORIAN
BEGIN:VEVENT
DTSTART:20241207T160000Z
DTEND:20241207T170000Z
X-MICROSOFT-CDO-ALLDAYEVENT:FALSE
SUMMARY:Rockport High School Band Performing in Dock Square
DESCRIPTION:The Rockport High School Band performing in Dock Square
X-ALT-DESC;FMTTYPE=text/html:The Rockport High School Band performing in Dock Square
LOCATION:Dock Square\, Rockport\, MA
UID:e.2981.34159
SEQUENCE:3
DTSTAMP:20260424T140830Z
URL:https://business.capeannchamber.com/events/details/rockport-high-school-band-performing-in-dock-square-34159
END:VEVENT

END:VCALENDAR
