BEGIN:VCALENDAR
VERSION:2.0
PRODID:-//ChamberMaster//Event Calendar 2.0//EN
METHOD:PUBLISH
X-PUBLISHED-TTL:P3D
REFRESH-INTERVAL:P3D
CALSCALE:GREGORIAN
BEGIN:VEVENT
DTSTART:20240330T174500Z
DTEND:20240330T181500Z
X-MICROSOFT-CDO-ALLDAYEVENT:FALSE
SUMMARY:Rockport Community Easter Egg Hunt 2024
DESCRIPTION:The Rockport Division of the Cape Ann Chamber of Commerce will hold the 32nd Annual Rockport Community Easter Egg Hunt on Saturday\, March 30th at 2 PM.  This is a FREE event for the younger children of the town: Pre-Schoolers through Grade One\; and will take place at Millbrook Meadow. \n\n \n\nPre-Schoolers will be grouped in one section and Kindergarteners and First-graders in another.  In addition to assorted candies\, chocolates and small prizes\, the hunt will feature a number of special eggs to be redeemed for larger prizes. The Easter Bunny is also expected to make an appearance.  Bring a basket and arrive early. The hunt will begin promptly at 2 PM!\n\n \n\nThis year's event is being organized by the Chamber's Rockport Division with key support from local innkeepers and the Institution for Savings.\n\n \n\nPlease contact the Chamber Office (978-283-1601) to volunteer or make a donation.  Small prizes may be dropped off at the Rockport branch of the Institution for Savings or at the Chamber office. Financial gifts are also welcomed and may be made online (Through the Registration button above) or mailed to the Cape Ann Chamber of Commerce\, 24 Harbor Loop\, Gloucester. *PLEASE NOTE THAT THIS IS A FREE EVENT AND REGISTRATION IS NOT REQUIRED. Any payments made through the Registration Button above will be considered a voluntary donation to help offset the costs of the event.
X-ALT-DESC;FMTTYPE=text/html:<span style="font-size:12.0pt\;">The Rockport Division of the Cape Ann Chamber of Commerce will hold the 32nd Annual Rockport Community Easter Egg Hunt on Saturday\, March 30th at 2 PM.&nbsp\; This is a <span style="color:#008000\;"><u><strong>FREE</strong></u><strong> </strong></span>event for the younger children of the town: <strong><span style="color:#800080\;">Pre-Schoolers through Grade One\; </span></strong>and will take place at Millbrook Meadow.&nbsp\;</span><br />\n&nbsp\;<br />\n<span style="font-size:12.0pt\;">Pre-Schoolers will be grouped in one section and Kindergarteners and First-graders in another.&nbsp\; In addition to assorted candies\, chocolates and small prizes\, the hunt will feature a number of special eggs to be redeemed for larger prizes. The Easter Bunny is also expected to make an appearance.&nbsp\; Bring a basket and arrive early. The hunt will begin promptly at 2 PM!</span><br />\n&nbsp\;<br />\n<span style="font-size:12.0pt\;">This year&#39\;s event is being organized by the Chamber&#39\;s Rockport Division with key support from local innkeepers and the Institution for Savings.</span><br />\n&nbsp\;<br />\n<span style="font-size:12.0pt\;">Please contact the Chamber Office (978-283-1601) to volunteer or make a donation.&nbsp\; Small prizes may be dropped off at the Rockport branch of the Institution for Savings or at the Chamber office.&nbsp\;</span><span style="font-size: 16px\;">Financial gifts are also welcomed and may be made online (Through the Registration button above) or mailed to the Cape Ann Chamber of Commerce\, 24 Harbor Loop\, Gloucester. <span style="color:#800080\;"><strong>*PLEASE NOTE THAT THIS IS A <u>FREE</u>&nbsp\;EVENT AND REGISTRATION IS <u>NOT</u> REQUIRED. </strong><em>Any payments made through the <strong>Registration Button</strong> above will be considered a <strong>voluntary donation</strong> to help offset the costs of the event.</em></span></span>
LOCATION:Millbrook Meadow 20 Beach St Rockport\, MA 01966
UID:e.2981.30146
SEQUENCE:3
DTSTAMP:20260420T080850Z
URL:https://business.capeannchamber.com/events/details/rockport-community-easter-egg-hunt-2024-30146
END:VEVENT

END:VCALENDAR
